BEGIN:VCALENDAR
VERSION:2.0
PRODID:-//ChamberMaster//Event Calendar 2.0//EN
METHOD:PUBLISH
X-PUBLISHED-TTL:P3D
REFRESH-INTERVAL:P3D
CALSCALE:GREGORIAN
BEGIN:VEVENT
DTSTART:20230603T230000Z
DTEND:20230604T000000Z
X-MICROSOFT-CDO-ALLDAYEVENT:FALSE
SUMMARY:The Dickens Parlour Theatre presents: Shana Farr's Lullaby of Broadway
DESCRIPTION:The incomparable duo Shana Farr and Jon Weber make their way back to the Dickens Parlour Theatre in Lullaby of Broadway. Inspired by songs from Tony Award-winning musicals\, Shana Farr weaves together an evening of songs that represent some of the best-remembered songs of Broadway by Rodgers & Hammerstein\, Lerner & Loewe\, Cole Porter\, Andrew Lloyd Webber\, Stephen Sondheim\, Bock & Harnick\, Jerry Herman\, and more. Ms. Farr brings her own voice and interpretations to these timeless songs that help tell some of her own stories about being a wide-eyed girl from the Midwest\, moving to New York City\, and spending twenty years doing what she loves best   singing the great songs of Broadway. Lullaby of Broadway is Shana's newest show and was first performed at The Beach Caf  in New York City to an enthusiastic audience. Music Director\, Jon Weber created smart arrangements with a touch of jazz that allow Shana to bring her own interpretations to these popular songs.
X-ALT-DESC;FMTTYPE=text/html:<span style="background-color:transparent\; color:rgb(0\, 0\, 0)\; font-family:tahoma\,geneva\,sans-serif\; font-size:14px">The incomparable duo Shana Farr and Jon Weber make their way back to the Dickens Parlour Theatre in&nbsp\;</span><em><strong>Lullaby of Broadway.</strong>&nbsp\;</em><span style="background-color:transparent\; color:rgb(0\, 0\, 0)\; font-family:tahoma\,geneva\,sans-serif\; font-size:14px">Inspired by songs from Tony Award-winning musicals\, Shana Farr weaves together an evening of songs that represent some of the best-remembered songs of Broadway&nbsp\;by Rodgers &amp\; Hammerstein\, Lerner &amp\; Loewe\, Cole Porter\, Andrew Lloyd Webber\, Stephen Sondheim\, Bock &amp\; Harnick\, Jerry Herman\, and more. Ms. Farr brings her own voice and interpretations to these timeless songs that help tell some of her own stories about being a wide-eyed girl from the Midwest\, moving to New York City\, and spending twenty years doing what she loves best &ndash\; singing the great songs of Broadway.&nbsp\;</span><em>Lullaby of Broadway&nbsp\;</em><span style="background-color:transparent\; color:rgb(0\, 0\, 0)\; font-family:tahoma\,geneva\,sans-serif\; font-size:14px">is Shana&rsquo\;s newest show and was first performed at&nbsp\;The Beach Caf&eacute\; in New York City to an enthusiastic audience. Music Director\, Jon Weber created&nbsp\;smart arrangements with a touch of jazz that allow&nbsp\;Shana to bring her own interpretations to&nbsp\;these popular songs.</span>
LOCATION:Dickens Parlour Theatre 31810 Good Earth Lane Ocean View\, DE 19970
UID:e.2126.25395
SEQUENCE:3
DTSTAMP:20260421T005238Z
URL:http://business.thequietresorts.com/events/details/the-dickens-parlour-theatre-presents-shana-farr-s-lullaby-of-broadway-06-03-2023-25395
END:VEVENT

END:VCALENDAR
