BEGIN:VCALENDAR
VERSION:2.0
PRODID:-//ChamberMaster//Event Calendar 2.0//EN
METHOD:PUBLISH
X-PUBLISHED-TTL:P3D
REFRESH-INTERVAL:P3D
CALSCALE:GREGORIAN
BEGIN:VEVENT
DTSTART:20230521T010000Z
DTEND:20230521T023000Z
X-MICROSOFT-CDO-ALLDAYEVENT:FALSE
SUMMARY:The Dickens Parlour Theatre presents: Comedy with Nancy Burkett
DESCRIPTION:Nancy Burkett\, from Milford\, DE\, brings a mix-up of edgy and adult humor. She has headlined and featured at comedy clubs in DC\, Philadelphia\, DE\, NJ\, PA\, MD\, VA\, SC\, NC\, TX\, and even in Panama! Nancy tells it like it is\, drawing from her experience as a public high school teacher\, while raising two daughters\, and doing the online dating thing. She'll have you wishing that your teachers  and your mom  had been this blunt  and this funny!
X-ALT-DESC;FMTTYPE=text/html:<span style="color:rgb(0\, 0\, 0)\; font-family:tahoma\,geneva\,sans-serif\; font-size:14px">Nancy Burkett\, from Milford\, DE\, brings a mix-up of edgy and adult humor. She has headlined and featured at comedy clubs in DC\, Philadelphia\, DE\, NJ\, PA\, MD\, VA\, SC\, NC\, TX\, and even in Panama! Nancy tells it like it is\, drawing from her experience as a public high school teacher\, while raising two daughters\, and doing the online dating thing. She&rsquo\;ll have you wishing that your teachers &ndash\;and your mom&ndash\; had been this blunt&hellip\; and this funny!</span>
LOCATION:Dickens Parlour Theatre 31810 Good Earth Lane Ocean View\, DE 19970
UID:e.2126.25389
SEQUENCE:3
DTSTAMP:20260421T040838Z
URL:http://business.thequietresorts.com/events/details/the-dickens-parlour-theatre-presents-comedy-with-nancy-burkett-25389
END:VEVENT

END:VCALENDAR
