BEGIN:VCALENDAR
VERSION:2.0
PRODID:-//ChamberMaster//Event Calendar 2.0//EN
METHOD:PUBLISH
X-PUBLISHED-TTL:P3D
REFRESH-INTERVAL:P3D
CALSCALE:GREGORIAN
BEGIN:VEVENT
DTSTART:20240406T180000Z
DTEND:20240406T190000Z
X-MICROSOFT-CDO-ALLDAYEVENT:FALSE
SUMMARY:The Dickens Parlour Theatre presents: Children's Magic Show with Tom Foolery
DESCRIPTION:Our Children's Magic Show with Tom Foolery is a wonder and joy for children of all ages. Unlike other magic performances that are geared towards an older audience\, even the youngest of children may attend and experience the intrigue of Magic!
X-ALT-DESC;FMTTYPE=text/html:<strong>Our Children&rsquo\;s Magic Show with Tom Foolery is a wonder and joy for children of all ages. Unlike other magic performances that are geared towards an older audience\, even the youngest of children may attend and experience the intrigue of Magic!</strong>
LOCATION:Dickens Parlour Theatre 31810 Good Earth Lane Ocean View\, DE 19970
UID:e.2126.28501
SEQUENCE:3
DTSTAMP:20260420T074237Z
URL:http://business.thequietresorts.com/events/details/the-dickens-parlour-theatre-presents-children-s-magic-show-with-tom-foolery-04-06-2024-28501
END:VEVENT

END:VCALENDAR
