BEGIN:VCALENDAR
VERSION:2.0
PRODID:-//ChamberMaster//Event Calendar 2.0//EN
METHOD:PUBLISH
X-PUBLISHED-TTL:P3D
REFRESH-INTERVAL:P3D
CALSCALE:GREGORIAN
BEGIN:VEVENT
DTSTART:20230527T180000Z
DTEND:20230527T190000Z
X-MICROSOFT-CDO-ALLDAYEVENT:FALSE
SUMMARY:The Dickens Parlour Theatre presents: Children's Magic Show with Chris Capehart
DESCRIPTION:Chris Capehart is an accomplished master\, respected throughout the world by the most famous of magicians and sought after for repeat performances by critics and audience members alike. Over four decades Chris has performed in the world's most prominent theaters\, become an accomplished street performer\, created routines for the biggest names in magic\, and conquered the ancient techniques behind the linking rings. His skills in the art of close-up performance are no less than astonishing.
X-ALT-DESC;FMTTYPE=text/html:<span style="color:rgb(48\, 48\, 48)\; font-family:tahoma\,geneva\,sans-serif\; font-size:14px">Chris Capehart</span><strong>&nbsp\;</strong><span style="color:rgb(48\, 48\, 48)\; font-family:tahoma\,geneva\,sans-serif\; font-size:14px">is an accomplished master\, respected throughout the world by the most famous of magicians and sought after for repeat performances by critics and audience members alike. Over four decades Chris has performed in the world&rsquo\;s most prominent theaters\, become an accomplished street performer\, created routines for the biggest names in magic\, and conquered the ancient techniques behind the linking rings. His skills in the art of close-up performance are no less than astonishing.&nbsp\;</span>
LOCATION:Dickens Parlour Theatre 31810 Good Earth Lane Ocean View\, DE 19970
UID:e.2126.25390
SEQUENCE:3
DTSTAMP:20260421T040941Z
URL:http://business.thequietresorts.com/events/details/the-dickens-parlour-theatre-presents-children-s-magic-show-with-chris-capehart-25390
END:VEVENT

END:VCALENDAR
