BEGIN:VCALENDAR
VERSION:2.0
PRODID:-//ChamberMaster//Event Calendar 2.0//EN
METHOD:PUBLISH
X-PUBLISHED-TTL:P3D
REFRESH-INTERVAL:P3D
CALSCALE:GREGORIAN
BEGIN:VEVENT
DTSTART:20240216T210000Z
DTEND:20240216T220000Z
X-MICROSOFT-CDO-ALLDAYEVENT:FALSE
SUMMARY:The Diary of Anne Frank: Play Reading and Discussion at St. Martha's
DESCRIPTION:Experience the unforgettable journey of Anne Frank's diary and join our community for a thought-provoking discussion at our public play reading event on February 16th!
X-ALT-DESC;FMTTYPE=text/html:<span style="color:rgb(55\, 65\, 81)\; font-family:söhne\,ui-sans-serif\,system-ui\,-apple-system\,segoe ui\,roboto\,ubuntu\,cantarell\,noto sans\,sans-serif\,helvetica neue\,arial\,apple color emoji\,segoe ui emoji\,segoe ui symbol\,noto color emoji\; font-size:16px">Experience the unforgettable journey of Anne Frank&#39\;s diary and join our community for a thought-provoking discussion at our public play reading event on February 16th!</span>
LOCATION:St. Martha's Episcopal Church 117 Maplewood Street Bethany Beach\, DE 19930
UID:e.2126.28380
SEQUENCE:3
DTSTAMP:20260420T094043Z
URL:http://business.thequietresorts.com/events/details/the-diary-of-anne-frank-play-reading-and-discussion-at-st-martha-s-28380
END:VEVENT

END:VCALENDAR
