BEGIN:VCALENDAR
VERSION:2.0
PRODID:-//ChamberMaster//Event Calendar 2.0//EN
METHOD:PUBLISH
X-PUBLISHED-TTL:P3D
REFRESH-INTERVAL:P3D
CALSCALE:GREGORIAN
BEGIN:VEVENT
DTSTART:20240416T220000Z
DTEND:20240417T000000Z
X-MICROSOFT-CDO-ALLDAYEVENT:FALSE
SUMMARY:The Art of Storytelling at the Art League of Ocean City
DESCRIPTION:The Art League of Ocean City presents an evening of reading and commentary by writers Stephanie Fowler\, Gwen Lehman\, and singer/songwriter Bryan Russo. Come join us for an evening devoted to the celebration of words and the art of writing and reading engaging stories.\n\nStephanie L. Fowler is an award-winning author\, publisher\, and owner of Salt Water Media. She has written two books and is currently working on her third.\n\nBryan Russo is an award winning singer/ songwriter and journalist. He will perform some of his original songs with commentary on writing lyrics and music.\n\nGwen Lehman is a multiple award winning theatre teacher\, artist\, and writer. She will read from her short story collections\, "Southern Stories" and "Women I've Invented."\n\nFree and open to the public. Wine and light refreshments will be served.
X-ALT-DESC;FMTTYPE=text/html:<p>The Art League of Ocean City presents an evening of reading and commentary by writers Stephanie Fowler\, Gwen Lehman\, and singer/songwriter Bryan Russo. Come join us for an evening devoted to the celebration of words and the art of writing and reading engaging stories.</p>\n\n<p><strong>Stephanie L. Fowler</strong>&nbsp\;is an award-winning author\, publisher\, and owner of Salt Water Media. She has written two books and is currently working on her third.</p>\n\n<p><strong>Bryan Russo</strong>&nbsp\;is an award winning singer/ songwriter and journalist. He will perform some of his original songs with commentary on writing lyrics and music.</p>\n\n<p><strong>Gwen Lehman</strong>&nbsp\;is a multiple award winning theatre teacher\, artist\, and writer. She will read from her short story collections\, &ldquo\;Southern Stories&rdquo\; and &ldquo\;Women I&rsquo\;ve Invented.&rdquo\;</p>\n\n<p>Free and open to the public. Wine and light refreshments will be served.</p>\n
LOCATION:Art League of Ocean City 502 94th Street Ocean City\, MD 21842
UID:e.2126.28622
SEQUENCE:3
DTSTAMP:20260420T062026Z
URL:http://business.thequietresorts.com/events/details/the-art-of-storytelling-at-the-art-league-of-ocean-city-28622
END:VEVENT

END:VCALENDAR
