BEGIN:VCALENDAR
VERSION:2.0
PRODID:-//ChamberMaster//Event Calendar 2.0//EN
METHOD:PUBLISH
X-PUBLISHED-TTL:P3D
REFRESH-INTERVAL:P3D
CALSCALE:GREGORIAN
BEGIN:VEVENT
DTSTART:20210327T143000Z
DTEND:20210327T163000Z
X-MICROSOFT-CDO-ALLDAYEVENT:FALSE
SUMMARY:"The Art of Sea Glass" A workshop with the C Glass Sisters
DESCRIPTION:Join C Glass Sisters and Inland Bays Garden Center on Saturday\, March 27 for a fun morning creating your own framed seaglass picture. You'll be using seaglass handpicked by C Glass Sisters from the Eastern Shore coastline. There will be several designs to choose from. All materials will be provided along with step by step instructions. Everyone will take home their own unique\, framed art piece. (See examples below of the sea bird theme for the workshop.) Following Covid-19 guidelines\, only 10 spaces will be available. Participants are required to wear masks and latex gloves will be available. Limited space available -- please reserve your spot online by March 22. Light refreshments will be served. Time: 10:30am - 12:30pm Location: Inland Bays Garden Center Cost: $45 https://www.eventbrite.com/e/the-art-of-sea-glass-a-workshop-with-the-c-glass-sisters-tickets-142704203113
X-ALT-DESC;FMTTYPE=text/html:<span style="font-size:14px\;"><span style="font-family:arial\;">Join C Glass Sisters and Inland Bays Garden Center on Saturday\, March 27 for a fun morning creating your own framed seaglass picture. You&#39\;ll be using seaglass handpicked by C Glass Sisters from the Eastern Shore coastline. There will be several designs to choose from. All materials will be provided along with step by step instructions. Everyone will take home their own unique\, framed art piece. (See examples below of the sea bird theme for the workshop.) Following Covid-19 guidelines\, only 10 spaces will be available. Participants are required to wear masks and latex gloves will be available. Limited space available -- please reserve your spot online by March 22. Light refreshments will be served. Time: 10:30am - 12:30pm Location: Inland Bays Garden Center Cost: $45 https://www.eventbrite.com/e/the-art-of-sea-glass-a-workshop-with-the-c-glass-sisters-tickets-142704203113</span></span>
LOCATION:Inland Bays Garden Center 38320 Muddy Neck Rd Frankford\, DE 19945
UID:e.2126.21948
SEQUENCE:3
DTSTAMP:20260425T000318Z
URL:http://business.thequietresorts.com/events/details/the-art-of-sea-glass-a-workshop-with-the-c-glass-sisters-21948
END:VEVENT

END:VCALENDAR
