BEGIN:VCALENDAR
VERSION:2.0
PRODID:-//ChamberMaster//Event Calendar 2.0//EN
METHOD:PUBLISH
X-PUBLISHED-TTL:P3D
REFRESH-INTERVAL:P3D
CALSCALE:GREGORIAN
BEGIN:VEVENT
DTSTART:20240323T150000Z
DTEND:20240323T180000Z
X-MICROSOFT-CDO-ALLDAYEVENT:FALSE
SUMMARY:The Art of Fiber at Inland Bays Garden Center
DESCRIPTION:What is felting? Felting is the process of connecting or blending wool\, wool roving\, or fiber\n\ntogether to make fabric. Wet felting uses water\, soap\, and friction to tangle the wool/fibers\n\ntogether that produce stunning results. In this beginner wet felted wool class\, you'll create a\n\nfelted soap and a succulent vessel. The vessels you make in class will use Bergschaf (type of\n\nsheep) wool. It is an easy fiber to work with\, felts easily with temperature change and friction\n\nand creates a firm\, stable material. The hardest choice will be picking the wool color for your\n\nfelted soap and succulent vessel.\n\n\n\nSharon Davis of Davis Crafted is a textile artist working primarily with wool fibers. Her love of\n\nfabrics began at an early age. She nurtured her passion by immersing herself in a variety of\n\nclasses. Today she lovingly creates handmade items using a wide range of mediums and\n\ntechniques. You ill find Sharon and her incredible felted wool crafts at local art shows and craft\n\nfairs around Sussex County.
X-ALT-DESC;FMTTYPE=text/html:What is felting? Felting is the process of connecting or blending wool\, wool roving\, or fiber<br />\ntogether to make fabric. Wet felting uses water\, soap\, and friction to tangle the wool/fibers<br />\ntogether that produce stunning results. In this beginner wet felted wool class\, you&rsquo\;ll create a<br />\nfelted soap and a succulent vessel. The vessels you make in class will use Bergschaf (type of<br />\nsheep) wool. It is an easy fiber to work with\, felts easily with temperature change and friction<br />\nand creates a firm\, stable material. The hardest choice will be picking the wool color for your<br />\nfelted soap and succulent vessel.<br />\n<br />\nSharon Davis of Davis Crafted is a textile artist working primarily with wool fibers. Her love of<br />\nfabrics began at an early age. She nurtured her passion by immersing herself in a variety of<br />\nclasses. Today she lovingly creates handmade items using a wide range of mediums and<br />\ntechniques. You ill find Sharon and her incredible felted wool crafts at local art shows and craft<br />\nfairs around Sussex County.
LOCATION:Inland Bays Garden Center 38320 Muddy Neck Road Frankford\, DE\, 19945
UID:e.2126.28466
SEQUENCE:3
DTSTAMP:20260420T074707Z
URL:http://business.thequietresorts.com/events/details/the-art-of-fiber-at-inland-bays-garden-center-28466
END:VEVENT

END:VCALENDAR
