BEGIN:VCALENDAR
VERSION:2.0
PRODID:-//ChamberMaster//Event Calendar 2.0//EN
METHOD:PUBLISH
X-PUBLISHED-TTL:P3D
REFRESH-INTERVAL:P3D
CALSCALE:GREGORIAN
BEGIN:VEVENT
DTSTART:20240621T230000Z
DTEND:20240622T010000Z
X-MICROSOFT-CDO-ALLDAYEVENT:FALSE
SUMMARY:The Art of Drag- A Night of Drag Excellence at Art League of OC
DESCRIPTION:The Art League of Ocean City presents\, "The Art of Drag   A Night of Drag Excellence"!\n\nFriday\, June 21\, 2024\n\nDoors Open @ 6:00PM\n\nDrag Show @ 7:00   9:00PM\n\nJoin us for a night of drag excellence where we will be joined by 3 local drag queens performing your favorites!\n\nPERFORMANCES BY:\n\nMISS MANN ? Tara Ashleigh Austin ? Kadet Kelly\n\nLite fare included\, seating is limited to first come first serve\, standing room available.\n\nTickets: $25 plus fees\n\nClick here to purchase\n\nProceeds will benefit the Art League of Ocean City. Tickets are nonrefundable\n\nThank you to our sponsor Positive Energy!
X-ALT-DESC;FMTTYPE=text/html:<div>\n<div style="margin-left:0px !important\; margin-right:0px">\n<div style="margin-left:-15px\; margin-right:-15px">\n<div>\n<div>\n<p>The Art League of Ocean City presents\, &ldquo\;The Art of Drag &ndash\; A Night of Drag Excellence&rdquo\;!</p>\n\n<p>Friday\, June 21\, 2024<br />\nDoors Open @ 6:00PM<br />\nDrag Show @ 7:00 &ndash\; 9:00PM</p>\n\n<p>Join us for a night of drag excellence where we will be joined by 3 local drag queens performing your favorites!</p>\n\n<p>PERFORMANCES BY:<br />\nMISS MANN ? Tara Ashleigh Austin ? Kadet Kelly</p>\n\n<p>Lite fare included\, seating is limited to first come first serve\, standing room available.</p>\n\n<p>Tickets: $25 plus fees<br />\n<strong><a href="https://www.eventbrite.com/e/the-art-of-drag-tickets-900577961927?aff=oddtdtcreator" style="box-sizing: border-box\; outline: none 0px\; color: var(--tec-color-link-accent)\; text-decoration-line: none\; transition: all 0.2s ease 0s\; background: transparent\; -webkit-tap-highlight-color: rgba(0\, 0\, 0\, 0.3)\;">Click here to purchase</a></strong></p>\n\n<p>Proceeds will benefit the Art League of Ocean City. Tickets are nonrefundable</p>\n\n<p>Thank you to our sponsor&nbsp\;Positive Energy!</p>\n</div>\n</div>\n</div>\n</div>\n</div>\n
LOCATION:The Art League of Ocean City 502 94th St. Ocean City\, MD 21842.
UID:e.2126.30089
SEQUENCE:3
DTSTAMP:20260420T093237Z
URL:http://business.thequietresorts.com/events/details/the-art-of-drag-a-night-of-drag-excellence-at-art-league-of-oc-30089
END:VEVENT

END:VCALENDAR
