BEGIN:VCALENDAR
VERSION:2.0
PRODID:-//ChamberMaster//Event Calendar 2.0//EN
METHOD:PUBLISH
X-PUBLISHED-TTL:P3D
REFRESH-INTERVAL:P3D
CALSCALE:GREGORIAN
BEGIN:VEVENT
DTSTART:20200427T140000Z
DTEND:20200427T153000Z
X-MICROSOFT-CDO-ALLDAYEVENT:FALSE
SUMMARY:The ABCs of Asset Protection Planning
DESCRIPTION:In part three of this series\, we will learn the ABCs of Asset Protection Planning and answer the following questions\n\n	Will the nursing home "take" my home if I need long term care later in life?\n	Can I really protect my assets by adding my child's name to them?\n	Or by transferring the asset to my child for $1?\n\nClick here to register
X-ALT-DESC;FMTTYPE=text/html:<span style="color: rgb(51\, 51\, 51)\; text-transform: none\; text-indent: 0px\; letter-spacing: normal\; font-family: lato-regular\, HelveticaNeueW01-55Roma\, &quot\;Helvetica Neue&quot\;\, Helvetica\, Arial\, sans-serif\; font-size: 14px\; font-style: normal\; font-weight: 400\; word-spacing: 0px\; float: none\; display: inline !important\; white-space: pre-wrap\; orphans: 2\; widows: 2\; background-color: rgb(255\, 255\, 255)\; font-variant-ligatures: normal\; font-variant-caps: normal\; -webkit-text-stroke-width: 0px\; text-decoration-style: initial\; text-decoration-color: initial\;"><span style="font-family: arial\;">In part three of this series\, we will learn the ABCs of Asset Protection Planning and answer the following questions</span></span>\n<ol>\n	<li><span style="color: rgb(51\, 51\, 51)\; text-transform: none\; text-indent: 0px\; letter-spacing: normal\; font-family: lato-regular\, HelveticaNeueW01-55Roma\, &quot\;Helvetica Neue&quot\;\, Helvetica\, Arial\, sans-serif\; font-size: 14px\; font-style: normal\; font-weight: 400\; word-spacing: 0px\; float: none\; display: inline !important\; white-space: pre-wrap\; orphans: 2\; widows: 2\; background-color: rgb(255\, 255\, 255)\; font-variant-ligatures: normal\; font-variant-caps: normal\; -webkit-text-stroke-width: 0px\; text-decoration-style: initial\; text-decoration-color: initial\;"><span style="font-family: arial\;">Will the nursing home &quot\;take&quot\; my home if I need long term care later in life?</span></span></li>\n	<li><span style="color: rgb(51\, 51\, 51)\; text-transform: none\; text-indent: 0px\; letter-spacing: normal\; font-family: lato-regular\, HelveticaNeueW01-55Roma\, &quot\;Helvetica Neue&quot\;\, Helvetica\, Arial\, sans-serif\; font-size: 14px\; font-style: normal\; font-weight: 400\; word-spacing: 0px\; float: none\; display: inline !important\; white-space: pre-wrap\; orphans: 2\; widows: 2\; background-color: rgb(255\, 255\, 255)\; font-variant-ligatures: normal\; font-variant-caps: normal\; -webkit-text-stroke-width: 0px\; text-decoration-style: initial\; text-decoration-color: initial\;"><span style="font-family: arial\;">Can I really protect my assets by adding my child&#39\;s name to them?</span></span></li>\n	<li><span style="color: rgb(51\, 51\, 51)\; text-transform: none\; text-indent: 0px\; letter-spacing: normal\; font-family: lato-regular\, HelveticaNeueW01-55Roma\, &quot\;Helvetica Neue&quot\;\, Helvetica\, Arial\, sans-serif\; font-size: 14px\; font-style: normal\; font-weight: 400\; word-spacing: 0px\; float: none\; display: inline !important\; white-space: pre-wrap\; orphans: 2\; widows: 2\; background-color: rgb(255\, 255\, 255)\; font-variant-ligatures: normal\; font-variant-caps: normal\; -webkit-text-stroke-width: 0px\; text-decoration-style: initial\; text-decoration-color: initial\;"><span style="font-family: arial\;">Or by transferring the asset to my child for $1?</span></span></li>\n</ol>\n<span style="color: rgb(51\, 51\, 51)\; text-transform: none\; text-indent: 0px\; letter-spacing: normal\; font-family: lato-regular\, HelveticaNeueW01-55Roma\, &quot\;Helvetica Neue&quot\;\, Helvetica\, Arial\, sans-serif\; font-size: 14px\; font-style: normal\; font-weight: 400\; word-spacing: 0px\; float: none\; display: inline !important\; white-space: pre-wrap\; orphans: 2\; widows: 2\; background-color: rgb(255\, 255\, 255)\; font-variant-ligatures: normal\; font-variant-caps: normal\; -webkit-text-stroke-width: 0px\; text-decoration-style: initial\; text-decoration-color: initial\;"><span style="font-family: arial\;"><a href="https://register.gotowebinar.com/register/8649284436576430094" target="_blank">Click here</a> to register</span></span><br />\n&nbsp\;
LOCATION:
UID:e.2126.21502
SEQUENCE:3
DTSTAMP:20260425T225355Z
URL:http://business.thequietresorts.com/events/details/the-abcs-of-asset-protection-planning-21502
END:VEVENT

END:VCALENDAR
