BEGIN:VCALENDAR
VERSION:2.0
PRODID:-//ChamberMaster//Event Calendar 2.0//EN
METHOD:PUBLISH
X-PUBLISHED-TTL:P3D
REFRESH-INTERVAL:P3D
CALSCALE:GREGORIAN
BEGIN:VEVENT
DTSTART;VALUE=DATE:20210520
DTEND;VALUE=DATE:20210521
TRANSP:TRANSPARENT
X-MICROSOFT-CDO-ALLDAYEVENT:TRUE
SUMMARY:28th Anniversary Celebration as “The Party to Which You Give but Don’t Go”
DESCRIPTION:As we continue to prioritize the health and safety of our community\, we have reimagined the 28th Anniversary Celebration as "The Party to Which You Give but Don't Go" and your support of this year's fundraiser is more important than ever. The healthcare industry was hit hard by the COVID-19 pandemic\, and our local community hospital is no exception. Throughout the COVID-19 emergency\, it has increasingly become more evident that supporting our healthcare workers and ensuring the future of quality healthcare at Atlantic General Hospital is so critical for our community.\n\n \n\nThe Foundation is asking you\, our friends and neighbors\, for your support as a sponsor of the 28th Anniversary Celebration. This is an ideal opportunity for businesses and individuals to demonstrate their philanthropic support of Atlantic General Hospital to thousands of people from our community and beyond. Benefits for all sponsors include a variety of recognition through print and digital media. Please review the enclosed Sponsorship Opportunities sheet for a wide range of sponsorship levels with new and unique benefits.\n\n \n\nAll proceeds benefit Atlantic General Hospital Foundation\, a 501(c)(3) organization\, and all gifts are tax-deductible as allowed by law. Without the overhead and expenses of a traditional in-person party\, all donations to Atlantic General Hospital's 28th Anniversary Celebration are 100% tax-deductible and 100% of the funds raised will go directly to support Atlantic General Hospital's mission to provide a coordinated care system with access to quality care\, personalized service and education to create a healthy community.
X-ALT-DESC;FMTTYPE=text/html:<span style="font-size:14px\;"><span style="font-family:arial\;"><strong>As we continue to prioritize the health and safety of our community\, we have reimagined the 28<sup>th</sup> Anniversary Celebration as <span style="color:#008080"><em>&ldquo\;The Party to Which You Give but Don&rsquo\;t Go&rdquo\;</em></span> and your support of this year&rsquo\;s fundraiser is more important than ever. The healthcare industry was hit hard by the COVID-19 pandemic\, and our local community hospital is no exception. Throughout the COVID-19 emergency\, it has increasingly become more evident that supporting our healthcare workers and ensuring the future of quality healthcare at Atlantic General Hospital is so critical for our community.<br />\n&nbsp\;<br />\nThe Foundation is asking you\, our friends and neighbors\, for your support as a sponsor of the 28<sup>th</sup> Anniversary Celebration. This is an ideal opportunity for businesses and individuals to demonstrate their philanthropic support of Atlantic General Hospital to thousands of people from our community and beyond. Benefits for all sponsors include a variety of recognition through print and digital media. Please review the enclosed Sponsorship Opportunities sheet for a wide range of sponsorship levels with new and unique benefits.<br />\n&nbsp\;<br />\nAll proceeds benefit Atlantic General Hospital Foundation\, a 501(c)(3) organization\, and all gifts are tax-deductible as allowed by law. Without the overhead and expenses of a traditional in-person party\, all donations to Atlantic General Hospital&rsquo\;s 28<sup>th</sup> Anniversary Celebration are 100% tax-deductible and 100% of the funds raised will go directly to support Atlantic General Hospital&rsquo\;s mission to provide a coordinated care system with access to quality care\, personalized service and education to create a healthy community.</strong></span></span>
LOCATION:Non-Event Fundraiser... We are hosting a non-event fundraiser to raise money by promoting "The Party to Which You Give but Don't Go"
UID:e.2126.21979
SEQUENCE:3
DTSTAMP:20260424T204420Z
URL:http://business.thequietresorts.com/events/details/the-28th-anniversary-celebration-as-the-party-to-which-you-give-but-don-t-go-21979
END:VEVENT

END:VCALENDAR
