BEGIN:VCALENDAR
VERSION:2.0
PRODID:-//ChamberMaster//Event Calendar 2.0//EN
METHOD:PUBLISH
X-PUBLISHED-TTL:P3D
REFRESH-INTERVAL:P3D
CALSCALE:GREGORIAN
BEGIN:VEVENT
DTSTART:20231029T223000Z
DTEND:20231030T010000Z
X-MICROSOFT-CDO-ALLDAYEVENT:FALSE
SUMMARY:The 19th Street Band
DESCRIPTION:Characterized by high energy and strong vocal harmonies\, The 19th Street Band bridges the musical traditions of country and roots from Ireland to the Appalachia with their eclectic gypsy-rock spirit leaping from the stage. The charismatic vibe that Caolaidhe Davis (guitar player/vocalist) blends with fiddle/mandolin player/vocalist/partner-in-crime\, Meghan Davis\, creates a joy-filled chemistry that no crowd can resist. Add to the mix the highly talented rhythm section\, Greg Hardin (bass) & Patty Dougherty (drums)\, and this band will have everyone addicted.\n\n The 19th Street Band has entertained crowds at festivals such as DelFest\, Charm City Bluegrass Festival\, National Cherry Blossom Festival\, Iowa Irish Festival and the Maryland Irish Festival. Overseas\, the band has been featured as a regular artist at the Open House Festival in Bangor\, Northern Ireland and the Dunmore East Bluegrass Festival as they tour annually to Ireland and the UK. Their lively shows have packed the house at venues such as the 9:30 Club\, The Hamilton\, The Birchmere\, State Theatre (DC)\, The Avalon Theatre\, The Empire Music Hall in Belfast\, and Hill Country BBQ in NYC & DC. They have had the honor of opening for Asleep at the Wheel\, Rodney Atkins\, Chuck Mead\, Frank Solivan & Dirty Kitchen\, Kitchen Dwellers\, Town Mountain and many more.\n\nThe band's newest album\, Diamond in the Rough\, was chosen as 'Album of the Month' on West\n\nNorfolk Radio\, selected as a finalist for the DC Wammie Awards and has received air play on numerous radio stations throughout the UK. It includes three songs that were co-written by the late\, great Philip Donnelly and John Prine. Donnelly invited the band to record these songs with him in Tipperary\, Ireland.
X-ALT-DESC;FMTTYPE=text/html:<p>Characterized by high energy and strong vocal harmonies\, <strong>The 19th Street Band&nbsp\;</strong>bridges the musical traditions of country and roots from Ireland to the Appalachia with their eclectic gypsy-rock spirit leaping from the stage. The charismatic vibe that Caolaidhe Davis (guitar player/vocalist) blends with fiddle/mandolin&nbsp\;player/vocalist/partner-in-crime\,&nbsp\;Meghan&nbsp\;Davis\,&nbsp\;creates&nbsp\;a&nbsp\;joy-filled&nbsp\;chemistry&nbsp\;that&nbsp\;no crowd can resist. Add to the mix the highly talented rhythm section\, Greg Hardin (bass) &amp\; Patty Dougherty (drums)\, and this band will have everyone addicted.</p>\n\n<p>&nbsp\;The 19th Street Band has entertained crowds at festivals such as DelFest\, Charm City Bluegrass Festival\, National Cherry Blossom Festival\, Iowa Irish Festival and the Maryland Irish Festival. Overseas\, the band has been featured as a regular artist at the Open House Festival in Bangor\, Northern Ireland and the Dunmore East Bluegrass Festival as they tour annually to Ireland and the UK. Their lively shows have packed the house at venues such as the 9:30 Club\, The Hamilton\, The Birchmere\, State Theatre (DC)\, The Avalon Theatre\, The Empire Music Hall in Belfast\, and Hill Country BBQ in NYC &amp\; DC. They have had the honor of opening for Asleep at the Wheel\, Rodney Atkins\, Chuck Mead\, Frank Solivan &amp\; Dirty Kitchen\, Kitchen Dwellers\, Town Mountain and many more.</p>\n\n<p>The band&rsquo\;s newest album\, <em>Diamond&nbsp\;in&nbsp\;the&nbsp\;Rough</em>\,&nbsp\;was&nbsp\;chosen&nbsp\;as&nbsp\;&lsquo\;Album&nbsp\;of&nbsp\;the&nbsp\;Month&rsquo\;&nbsp\;on&nbsp\;West</p>\n\n<p>Norfolk Radio\, selected as a finalist for the DC Wammie Awards and has received air play on numerous radio stations throughout the UK. It includes three songs that were co-written by the late\, great Philip Donnelly and John Prine. Donnelly invited the band to record these songs with him in Tipperary\, Ireland.</p>\n
LOCATION:Bethany Beach Bandstand
UID:e.2126.26646
SEQUENCE:3
DTSTAMP:20260420T183250Z
URL:http://business.thequietresorts.com/events/details/the-19th-street-band-10-29-2023-26646
END:VEVENT

END:VCALENDAR
