BEGIN:VCALENDAR
VERSION:2.0
PRODID:-//ChamberMaster//Event Calendar 2.0//EN
METHOD:PUBLISH
X-PUBLISHED-TTL:P3D
REFRESH-INTERVAL:P3D
CALSCALE:GREGORIAN
BEGIN:VEVENT
DTSTART:20231007T130000Z
DTEND:20231007T190000Z
X-MICROSOFT-CDO-ALLDAYEVENT:FALSE
SUMMARY:The 15th Annual Artisans' Fair at Bethany Beach VFC
DESCRIPTION:The 15th Annual Artisans' Fair will be held at Bethany Beach Volunteer Fire Company featuring 40+ artisans with a wide variety of mediums.
X-ALT-DESC;FMTTYPE=text/html:The 15th Annual Artisans&#39\; Fair will be held at Bethany Beach Volunteer Fire Company featuring 40+ artisans with a wide variety of mediums.
LOCATION:Bethany Beach Volunteer Fire Company 215 Hollywood Street Bethany Beach\, DE 19930
UID:e.2126.26650
SEQUENCE:3
DTSTAMP:20260420T182931Z
URL:http://business.thequietresorts.com/events/details/the-15th-annual-artisans-fair-at-bethany-beach-vfc-26650
END:VEVENT

END:VCALENDAR
