BEGIN:VCALENDAR
VERSION:2.0
PRODID:-//ChamberMaster//Event Calendar 2.0//EN
METHOD:PUBLISH
X-PUBLISHED-TTL:P3D
REFRESH-INTERVAL:P3D
CALSCALE:GREGORIAN
BEGIN:VEVENT
DTSTART:20221124T170000Z
DTEND:20221125T010000Z
X-MICROSOFT-CDO-ALLDAYEVENT:FALSE
SUMMARY:Thanksgiving at Ropewalk Bethany Beach
DESCRIPTION:Thanksgiving at Ropewalk Bethany Beach\n\nNovember 24\, 2022 from 12-8pm\n\n\n\nCome join us for a special Thanksgiving holiday!\n\nSit down and enjoy a worry free full course dinner:\n\n$25 adult  $12 children \n\n \n\n1st Course: Maryland crab soup or crab bisque\, or house or caesar salad\n\nMain Course: Turkey\, gravy\, mashed potatoes\, green beans\, stuffing\, rolls\n\nDessert: Pumpkin pie\n\n\n\nCall 410-524-1009 for reservations\n\nOur regular full menu will also be available!
X-ALT-DESC;FMTTYPE=text/html:<div style="text-align: center\;"><span style="font-size:14px\;"><span style="font-family:arial\;"><strong>Thanksgiving at Ropewalk Bethany Beach</strong><br />\nNovember 24\, 2022 from 12-8pm<br />\n<br />\nCome join us for a special Thanksgiving holiday!<br />\nSit down and enjoy a worry free full course dinner:<br />\n<strong>$25 adult&nbsp\; $12 children&nbsp\;</strong></span></span><br />\n&nbsp\;</div>\n\n<div><em>1st Course</em>: Maryland crab soup or crab&nbsp\;bisque\, or house or caesar salad<br />\n<em>Main Course</em>: Turkey\, gravy\, mashed potatoes\, green beans\, stuffing\, rolls<br />\n<em>Dessert</em>: Pumpkin pie<br />\n<br />\n<strong>Call 410-524-1009 for reservations<br />\nOur regular full menu will also be available!</strong></div>\n\n<div style="text-align: center\;">&nbsp\;</div>\n
LOCATION:Ropewalk Bethany Beach 107 Garfield Parkway Bethany Beach\, DE 19930
UID:e.2126.24848
SEQUENCE:3
DTSTAMP:20260421T141924Z
URL:http://business.thequietresorts.com/events/details/thanksgiving-at-ropewalk-bethany-beach-24848
END:VEVENT

END:VCALENDAR
