BEGIN:VCALENDAR
VERSION:2.0
PRODID:-//ChamberMaster//Event Calendar 2.0//EN
METHOD:PUBLISH
X-PUBLISHED-TTL:P3D
REFRESH-INTERVAL:P3D
CALSCALE:GREGORIAN
BEGIN:VEVENT
DTSTART:20211125T180000Z
DTEND:20211126T010000Z
X-MICROSOFT-CDO-ALLDAYEVENT:FALSE
SUMMARY:Thanksgiving All-You-Can-Eat Buffet
DESCRIPTION:Thanksgiving All-You-Can-Eat Buffet\n\nThursday\, November 25\n\n1pm-8pm\n\nAdults:  $30.00     Kids (8 and under):  $15.00     Infants (2 & Under):  Free\n\n(price does not include a beverage)\n\n\nMENU:\n\nOven Roasted Turkey\n\nGlazed Ham\n\nButternut Squash Soup\n\nHarvest Salad\n\nGreen Bean Casserole\n\nOven Roasted Brussels\n\nRoasted Candied Yams\n\nCorn\n\nSage Stuffing\n\nSausage Stuffing\n\nReal Mashed Potatoes\n\nMac n' Cheese\n\nCranberry Sauce Homemade\n\nHomemade Gravy\n\nRolls\n\nCorn Bread\n\n \n\nDESSERTS:\n\nPumpkin Pie\n\nApple Pie\n\nBrownies\n\nPeanut Butter Pie\n\n \n\nDining is on a first come\, first served walk in basis only.  NO RESERVATIONS.
X-ALT-DESC;FMTTYPE=text/html:<div style="text-align:center"><strong><span style="color:#FF0000"><span style="font-size:18px"><span style="font-family:comic sans ms">Thanksgiving All-You-Can-Eat Buffet</span></span></span></strong></div>\n\n<div style="text-align:center"><span style="font-size:14px"><span style="font-family:arial">Thursday\, November 25</span></span></div>\n\n<div style="text-align:center"><span style="font-size:14px"><span style="font-family:arial">1pm-8pm</span></span></div>\n\n<div style="text-align:center"><span style="font-size:14px"><span style="font-family:arial">Adults:&nbsp\; $30.00&nbsp\; &bull\;&nbsp\; Kids (8 and under):&nbsp\; $15.00&nbsp\; &bull\;&nbsp\; Infants (2 &amp\; Under):&nbsp\; Free</span></span></div>\n\n<div style="text-align:center"><span style="font-size:11px"><span style="font-family:arial">(price does not include a beverage)</span></span></div>\n<br />\n<span style="font-size:14px"><span style="font-family:arial"><span style="color:#FF0000">MENU:</span></span></span>\n\n<div>Oven Roasted Turkey</div>\n\n<div>Glazed Ham</div>\n\n<div>Butternut Squash Soup</div>\n\n<div>Harvest Salad</div>\n\n<div>Green Bean Casserole</div>\n\n<div>Oven Roasted Brussels</div>\n\n<div>Roasted Candied Yams</div>\n\n<div>Corn</div>\n\n<div>Sage Stuffing</div>\n\n<div>Sausage Stuffing</div>\n\n<div>Real Mashed Potatoes</div>\n\n<div>Mac n&#39\; Cheese</div>\n\n<div>Cranberry Sauce Homemade</div>\n\n<div>Homemade Gravy</div>\n\n<div>Rolls<br />\nCorn Bread</div>\n\n<div>&nbsp\;</div>\n\n<div><span style="color:#FF0000">DESSERTS:</span></div>\n\n<div>Pumpkin Pie</div>\n\n<div>Apple Pie</div>\n\n<div>Brownies</div>\n\n<div>Peanut Butter Pie</div>\n\n<div>&nbsp\;</div>\n\n<div>Dining is on a first come\, first served walk in basis only.&nbsp\; NO RESERVATIONS.</div>\n
LOCATION:The Salted Rim Margarita Bar & Grille 35553 Atlantic Avenue Millville\, DE 19967 302-537-7373
UID:e.2126.23045
SEQUENCE:3
DTSTAMP:20260424T120210Z
URL:http://business.thequietresorts.com/events/details/thanksgiving-all-you-can-eat-buffet-23045
END:VEVENT

END:VCALENDAR
