BEGIN:VCALENDAR
VERSION:2.0
PRODID:-//ChamberMaster//Event Calendar 2.0//EN
METHOD:PUBLISH
X-PUBLISHED-TTL:P3D
REFRESH-INTERVAL:P3D
CALSCALE:GREGORIAN
BEGIN:VEVENT
DTSTART:20230726T233000Z
DTEND:20230727T010000Z
X-MICROSOFT-CDO-ALLDAYEVENT:FALSE
SUMMARY:Teen Showcase - The Teenage Satellites
DESCRIPTION:The Teenage Satellites are a pop/rock/alternative band from Lewes /Rehoboth Beach\, Delaware\, raging in ages from 12 to 15.\n\nThe band formed in December 2021 with Jamie\, Brayden\, and Jase.  Deciding they needed a lead singer\, they reached out to Anna who came to a practice and the four of them meshed well.  The quartet practiced 3 times that first week and headed out to a "Young Musicians Showcase" where they played well and received some good feedback. The Teenage Satellites were born.\n\n A week later\, they booked their first gig\, and when a conflict arose\, the band reached out to Jasper with plans for him to fill in for Jamie for the night.  The five of them practiced together for a month preparing for the show.  As fate would have it\, the conflict was canceled and all 5 played the show.  Afterwards\, Jasper joined the band for good\, and there were now 5 Satellites.
X-ALT-DESC;FMTTYPE=text/html:<p>The Teenage Satellites are a pop/rock/alternative band from Lewes /Rehoboth Beach\, Delaware\, raging in ages from 12 to 15.</p>\n\n<p>The band formed in December 2021 with Jamie\, Brayden\, and Jase. &nbsp\;Deciding they needed a lead singer\, they reached out to Anna who came to a practice and the four of them meshed well. &nbsp\;The quartet practiced 3 times that first week and headed out to a &quot\;Young Musicians Showcase&quot\; where they played well and received some good feedback. The Teenage Satellites were born.</p>\n\n<p>&nbsp\;A week later\, they booked their first gig\, and when a conflict arose\, the band reached out to Jasper with plans for him to fill in for Jamie for the night. &nbsp\;The five of them practiced together for a month preparing for the show. &nbsp\;As fate would have it\, the conflict was canceled and all 5 played the show. &nbsp\;Afterwards\, Jasper joined the band for good\, and there were now 5 Satellites.&nbsp\;</p>\n
LOCATION:Bethany Beach Bandstand
UID:e.2126.26003
SEQUENCE:3
DTSTAMP:20260420T230915Z
URL:http://business.thequietresorts.com/events/details/teen-showcase-the-teenage-satellites-26003
END:VEVENT

END:VCALENDAR
