BEGIN:VCALENDAR
VERSION:2.0
PRODID:-//ChamberMaster//Event Calendar 2.0//EN
METHOD:PUBLISH
X-PUBLISHED-TTL:P3D
REFRESH-INTERVAL:P3D
CALSCALE:GREGORIAN
BEGIN:VEVENT
DTSTART:20230719T233000Z
DTEND:20230720T010000Z
X-MICROSOFT-CDO-ALLDAYEVENT:FALSE
SUMMARY:Teen Showcase - Burn the Jukebox
DESCRIPTION:Burn the Jukebox is a powerhouse made up of four teenagers with an insatiable passion for music. These talented musicians\, ranging in age from 15 to 16 years old\, have spent countless hours perfecting their craft and mastering your favorite hits from the last five decades.\n\nFrom classic hits to modern anthems\, Burn the Jukebox knows how to get the crowd moving and keep them on their feet all night long. These young musicians are breathing new life into old favorites and forging a unique sound that is all their own. Burn the Jukebox is a band that truly embodies the spirit of rock and roll\, with infectious energy and a magnetic stage presence that leaves audiences begging for more.\n\nWith 5 original songs on Spotify\, the band is recording their first full album and planning their first national tour. Members of BTJ have been on National Broadway tours\, Off-Broadway\, and National T.V. With three incredible lead singers\, the band has gone super viral on social media with over 200 million views on with a rapidly expanding fan base of over 400K followers.
X-ALT-DESC;FMTTYPE=text/html:<p>Burn the Jukebox is a powerhouse made up of four teenagers with an insatiable passion for music. These talented musicians\, ranging in age from 15 to 16 years old\, have spent countless hours perfecting their craft and mastering your favorite hits from the last five decades.</p>\n\n<p>From classic hits to modern anthems\, Burn the Jukebox knows how to get the crowd moving and keep them on their feet all night long. These young musicians are breathing new life into old favorites and forging a unique sound that is all their own. Burn the Jukebox is a band that truly embodies the spirit of rock and roll\, with infectious energy and a magnetic stage presence that leaves audiences begging for more.</p>\n\n<p>With 5 original songs on Spotify\, the band is recording their first full album and planning their first national tour. Members of BTJ have been on National Broadway tours\, Off-Broadway\, and National T.V. With three incredible lead singers\, the band has gone super viral on social media with over 200 million views on with a rapidly expanding fan base of over 400K followers.</p>\n
LOCATION:Bethany Beach Bandstand
UID:e.2126.26001
SEQUENCE:3
DTSTAMP:20260421T004959Z
URL:http://business.thequietresorts.com/events/details/teen-showcase-burn-the-jukebox-26001
END:VEVENT

END:VCALENDAR
