BEGIN:VCALENDAR
VERSION:2.0
PRODID:-//ChamberMaster//Event Calendar 2.0//EN
METHOD:PUBLISH
X-PUBLISHED-TTL:P3D
REFRESH-INTERVAL:P3D
CALSCALE:GREGORIAN
BEGIN:VEVENT
DTSTART:20200420T140000Z
DTEND:20200420T153000Z
X-MICROSOFT-CDO-ALLDAYEVENT:FALSE
SUMMARY:Teach Me About Trusts
DESCRIPTION:In part two of this series\, we will examine trusts as tools to include in our thorough estate plan and answer these questions.\n\n	What is a Trust?\n	What is probate and why would I want to avoid it?\n	Which Trust is a good fit for me?\n\nClick here to register
X-ALT-DESC;FMTTYPE=text/html:<span style="color: rgb(51\, 51\, 51)\; text-transform: none\; text-indent: 0px\; letter-spacing: normal\; font-family: lato-regular\, HelveticaNeueW01-55Roma\, &quot\;Helvetica Neue&quot\;\, Helvetica\, Arial\, sans-serif\; font-size: 14px\; font-style: normal\; font-weight: 400\; word-spacing: 0px\; float: none\; display: inline !important\; white-space: pre-wrap\; orphans: 2\; widows: 2\; background-color: rgb(255\, 255\, 255)\; font-variant-ligatures: normal\; font-variant-caps: normal\; -webkit-text-stroke-width: 0px\; text-decoration-style: initial\; text-decoration-color: initial\;">In part two of this series\, we will examine trusts as tools to include in our thorough estate plan and answer these questions.</span>\n<ol>\n	<li><span style="font-family: arial\;"><span style="font-size: 14px\;">What is a Trust?</span></span></li>\n	<li><span style="font-family: arial\;"><span style="font-size: 14px\;">What is probate and why would I want to avoid it?</span></span></li>\n	<li><span style="font-family: arial\;"><span style="font-size: 14px\;">Which Trust is a good fit for me?</span></span></li>\n</ol>\n<span style="font-family: arial\;"><span style="font-size: 14px\;"><a href="https://register.gotowebinar.com/register/6493641312786495246" target="_blank">Click here</a> to register</span></span>
LOCATION:
UID:e.2126.21501
SEQUENCE:3
DTSTAMP:20260425T212229Z
URL:http://business.thequietresorts.com/events/details/teach-me-about-trusts-21501
END:VEVENT

END:VCALENDAR
