BEGIN:VCALENDAR
VERSION:2.0
PRODID:-//ChamberMaster//Event Calendar 2.0//EN
METHOD:PUBLISH
X-PUBLISHED-TTL:P3D
REFRESH-INTERVAL:P3D
CALSCALE:GREGORIAN
BEGIN:VEVENT
DTSTART:20230916T130000Z
DTEND:20230916T160000Z
X-MICROSOFT-CDO-ALLDAYEVENT:FALSE
SUMMARY:Taylor Bank Team Up For Good: Community Clean Up
DESCRIPTION:Delmarva's beaches\, parks\, trails\, and open spaces are treasures - let's work together to clean them up following the summer season.  Join Taylor Bank on Saturday\, September 16th\, for the 2023 Team Up For Good Community Clean Up.  \n\n\n\nThere are three check-in/disposal sites to choose from: \n\n	Delaware: Ocean View Branch\n	Maryland: Ocean Landing Branch\n	Virginia: Chincoteague Branch\n\nEach location will host a friendly competition with first\, second\, and third place prizes awarded to the groups that collect the most weight in trash!  A bonus proze will be awarded for the most unique or unusual item found.\n\n\n\nHow to Enter: \n\n1. Gather a team of colleagues\, friends\, family\, or participate as an individual.  Participants under age 18 must be accompanied by an adult. Click here to register your team.  \n\n2. Show up\, enjoy light fare & gather your materials. \n\n3. Clean it up! Travel to the clean up area of your choosing - pick your own clean up spot or choose an area from the list of locations provided at check in.  When your group is done for the day\, return to the branch for your bagged trash to be weighed.  The cutoff time to participate in the competition weigh-in is 12:00PM.
X-ALT-DESC;FMTTYPE=text/html:Delmarva&#39\;s beaches\, parks\, trails\, and open spaces are treasures - let&#39\;s work together to clean them up following the summer season.&nbsp\; Join Taylor Bank on Saturday\, September 16th\, for the 2023 Team Up For Good Community Clean Up.&nbsp\;&nbsp\;<br />\n<br />\nThere are three check-in/disposal sites to choose from:&nbsp\;\n<ul>\n	<li>Delaware: Ocean View Branch</li>\n	<li>Maryland: Ocean Landing Branch</li>\n	<li>Virginia: Chincoteague Branch</li>\n</ul>\nEach location will host a friendly competition with first\, second\, and third place prizes awarded to the groups that collect the most weight in trash!&nbsp\; A bonus proze will be awarded for the most unique or unusual item found.<br />\n<br />\nHow to Enter:&nbsp\;<br />\n1. Gather a team of colleagues\, friends\, family\, or participate as an individual.&nbsp\; Participants under age 18 must be accompanied by an adult.&nbsp\;<a href="https://www.taylorbank.com/teamupforgood">Click here to register your team</a>.&nbsp\;&nbsp\;<br />\n2. Show up\, enjoy light fare &amp\; gather your materials.&nbsp\;<br />\n3. Clean it up! Travel to the clean up area of your choosing - pick your own clean up spot or choose an area from the list of locations provided at check in.&nbsp\; When your group is done for the day\, return to the branch for your bagged trash to be weighed.&nbsp\; The cutoff time to participate in the competition weigh-in is 12:00PM.<br />\n&nbsp\;
LOCATION:There are three check-in/disposal sites to choose from: Delaware: Ocean View Branch Maryland: Ocean Landing Branch Virginia: Chincoteague Branch
UID:e.2126.26675
SEQUENCE:3
DTSTAMP:20260420T200039Z
URL:http://business.thequietresorts.com/events/details/taylor-bank-team-up-for-good-community-clean-up-26675
END:VEVENT

END:VCALENDAR
