BEGIN:VCALENDAR
VERSION:2.0
PRODID:-//ChamberMaster//Event Calendar 2.0//EN
METHOD:PUBLISH
X-PUBLISHED-TTL:P3D
REFRESH-INTERVAL:P3D
CALSCALE:GREGORIAN
BEGIN:VEVENT
DTSTART:20231208T150000Z
DTEND:20231208T170000Z
X-MICROSOFT-CDO-ALLDAYEVENT:FALSE
SUMMARY:Tabletop Tree Workshop at Inland Bays Garden Center
DESCRIPTION:Create a delightfully decorated miniature tabletop Christmas Tree of cut evergreens\, primarily boxwood\, and other natural seasonal additions that will last throughout the holiday season. Alison Webb\, AIFD\, will assist you in building this perfect gift for shut-ins or folks with a small space. Feel free to bring your own miniature holiday decorations to enhance your design. Sharp clippers and a paring knife are a must! Refreshments provided. Adult Class. Limit 8\n\n\n\nAlison Webb AIFD was inducted into the American Institute of Floral Designers (AIFD) in 1985 while working and living in Baltimore\, Maryland. Upon retirement from the floral industry\, she moved to the Maryland/Delaware coast and has transitioned her floral love into plants\, particularly natives. She has worked with Inland Bays Garden Center for 5 years.
X-ALT-DESC;FMTTYPE=text/html:Create a delightfully decorated miniature tabletop Christmas Tree of cut evergreens\, primarily boxwood\, and other natural seasonal additions that will last throughout the holiday season. Alison Webb\, AIFD\, will assist you in building this perfect gift for shut-ins or folks with a small space. Feel free to bring your own miniature holiday decorations to enhance your design. Sharp clippers and a paring knife are a must! Refreshments provided. Adult Class. Limit 8<br />\n<br />\nAlison Webb AIFD was inducted into the American Institute of Floral Designers (AIFD) in 1985 while working and living in Baltimore\, Maryland. Upon retirement from the floral industry\, she moved to the Maryland/Delaware coast and has transitioned her floral love into plants\, particularly natives. She has worked with Inland Bays Garden Center for 5 years.
LOCATION:Inland Bays Garden Center 38320 Muddy Neck Rd Frankford DE 19945
UID:e.2126.27316
SEQUENCE:3
DTSTAMP:20260420T164828Z
URL:http://business.thequietresorts.com/events/details/tabletop-tree-workshop-at-inland-bays-garden-center-27316
END:VEVENT

END:VCALENDAR
