BEGIN:VCALENDAR
VERSION:2.0
PRODID:-//ChamberMaster//Event Calendar 2.0//EN
METHOD:PUBLISH
X-PUBLISHED-TTL:P3D
REFRESH-INTERVAL:P3D
CALSCALE:GREGORIAN
BEGIN:VEVENT
DTSTART:20240410T230000Z
DTEND:20240411T020000Z
X-MICROSOFT-CDO-ALLDAYEVENT:FALSE
SUMMARY:T-R-I-V-I-A at The Salted Rim Margarita Bar & Grille
DESCRIPTION:T-R-I-V-I-A\n\n7 pm\n\nThe Salted Rim Margarita Bar & Grille\n\nMillville\, DE\n\n\n\nDJ Josh\n\n\n\nEvery Wednesday starting January 3\, 2024\n\n \n\nFree to Play              Must be 21\n\n \n\nTeam CASH PRIZES awarded\n\nat the end of the season\, June 19\, 2024\n\n\n\n\nWeekly Team Prize\n\n1st Place Team - $30 Gift Card\n\n2nd Place Team - $20 Gift Card\n\n3rd Place Team - $10 Gift Card\n\n\n\nTeam Trivia - End of Season Prize Breakdown\n\nFirst Team Name pulled wins $300 cash\n\nSecond Team Name pulled wins $150 cash\n\nThird Team Name pulled wins $50 cash\n\n\n\nThe prize money will be given to the Team Captain.\n\n\n\nTeam captain must sign in the Team on the Team Trivia sheet (blue) for a chance to win cash prizes at the end of the season\, Wednesday\, June 19\, 2024\n\n\n	Must be present to win on Wednesday\, June 19\, 2024\n	Drawing held at conclusion of Trivia on Wednesday\, June 19\, 2024\n	Team must sign in each week for entry into contest\n	The more weeks you participate the greater your chances.\n	One team entry per week.\n	Team must be present and play to sign in each week\n	Maximum 8 players per team\n\n\nIndividual Players\n\nEach person must sign in on the individual TRIVIA sheet (white) for a chance to win the TV at the end of the season\, Wednesday\, June 19\, 2024.\n\n\n\n\n\n	TV drawing and Give Away on Wednesday\, June 19\, 2024\n	Must be present to win on Wednesday\, June 19\, 2024\n	Drawing held at conclusion of Music Trivia on Wednesday\, June 19\, 2024\n	Sign in each week for entry into contest\n	The more weeks you participate the greater your chances\n	One entry per week per person\n	Must be present and play to sign in each week.\n\nVisit our website  https://www.saltedrimde.com/ and check out all of our events including BINGO on Monday's and Music TRIVIA on Thursday's.\n\n\n\n \n\nHope to see your there!!
X-ALT-DESC;FMTTYPE=text/html:<div style="text-align:center"><span style="font-size:14px"><span style="font-family:arial"><strong><em><span style="font-size:20px"><span style="color:rgb(0\, 0\, 205)">T-R-I-V-I-A</span></span></em><br />\n7 pm<br />\nThe Salted Rim Margarita Bar &amp\; Grille<br />\nMillville\, DE<br />\n<br />\nDJ Josh<br />\n<br />\nEvery Wednesday starting January 3\, 2024</strong></span></span></div>\n\n<div style="text-align:center">&nbsp\;</div>\n\n<div style="text-align:center"><span style="font-size:14px"><span style="font-family:arial"><strong><span style="font-size:16px"><em><span style="font-family:arial\,helvetica\,sans-serif">Free to Play&nbsp\; &nbsp\; &nbsp\; &nbsp\; &nbsp\; &nbsp\; &nbsp\; Must be 21</span></em></span></strong></span></span><br />\n&nbsp\;</div>\n\n<div style="text-align:center"><span style="color:#ff0033"><em><span style="font-size:18px"><span style="font-family:verdana"><strong><span style="background-color:#FFFF00">Team CASH PRIZES</span> awarded<br />\nat the end of the season\, June 19\, 2024</strong></span></span></em></span>\n\n<div style="text-align:left">\n<div style="text-align:center"><br />\n<strong>Weekly Team Prize</strong><br />\n1st Place Team - $30 Gift Card<br />\n2nd Place Team - $20 Gift Card<br />\n3rd Place Team - $10 Gift Card<br />\n<br />\n<strong>Team Trivia - End of Season Prize Breakdown</strong><br />\nFirst Team Name pulled wins $300 cash<br />\nSecond Team Name pulled wins $150 cash<br />\nThird Team Name pulled wins $50 cash<br />\n<br />\nThe prize money will be given to the Team Captain.</div>\n\n<div style="text-align:center">\n<div>\n<p style="text-align:left">Team captain must sign in the Team on the Team Trivia sheet (blue) for a chance to win cash prizes at the end of the season\, Wednesday\, June 19\, 2024</p>\n\n<ul>\n	<li style="text-align:left">Must be present to win on Wednesday\, June 19\, 2024</li>\n	<li style="text-align:left">Drawing held at conclusion of Trivia on Wednesday\, June 19\, 2024</li>\n	<li style="text-align:left">Team must sign in each week for entry into contest</li>\n	<li style="text-align:left">The more weeks you participate the greater your chances.</li>\n	<li style="text-align:left">One team entry per week.</li>\n	<li style="text-align:left">Team must be present and play to sign in each week</li>\n	<li style="text-align:left">Maximum 8 players per team</li>\n</ul>\n\n<div style="text-align:left"><strong>Individual Players</strong></div>\n\n<p style="text-align:left">Each person must sign in on the individual TRIVIA sheet (white) for a chance to win the TV at the end of the season\, Wednesday\, June 19\, 2024.</p>\n</div>\n\n<div style="text-align:left">\n<div>\n<ul>\n	<li>TV drawing and Give Away on Wednesday\, June 19\, 2024</li>\n	<li>Must be present to win on Wednesday\, June 19\, 2024</li>\n	<li>Drawing held at conclusion of Music Trivia on Wednesday\, June 19\, 2024</li>\n	<li>Sign in each week for entry into contest</li>\n	<li>The more weeks you participate the greater your chances</li>\n	<li>One entry per week per person</li>\n	<li>Must be present and play to sign in each week.</li>\n</ul>\n<span style="font-size:14px"><span style="font-family:arial">Visit our website &nbsp\;<a href="https://www.saltedrimde.com/" style="color: rgb(7\, 130\, 193)\;">https://www.saltedrimde.com/</a>&nbsp\;and check out all of our events including BINGO on Monday&#39\;s and Music TRIVIA on Thursday&#39\;s.</span></span></div>\n</div>\n</div>\n\n<div>&nbsp\;</div>\n\n<div style="text-align:center"><span style="font-size:14px"><span style="font-family:arial"><strong><span style="color:rgb(0\, 0\, 0)">Hope to see your there!!</span></strong></span></span></div>\n</div>\n</div>\n
LOCATION:The Salted Rim Margarita Bar & Grille 35553 Atlantic Avenue Millville\, DE 19967 302-537-7373 www.saltedrimde.com
UID:e.2126.27600
SEQUENCE:3
DTSTAMP:20260420T074424Z
URL:http://business.thequietresorts.com/events/details/t-r-i-v-i-a-at-the-salted-rim-margarita-bar-grille-04-10-2024-27600
END:VEVENT

END:VCALENDAR
