BEGIN:VCALENDAR
VERSION:2.0
PRODID:-//ChamberMaster//Event Calendar 2.0//EN
METHOD:PUBLISH
X-PUBLISHED-TTL:P3D
REFRESH-INTERVAL:P3D
CALSCALE:GREGORIAN
BEGIN:VEVENT
DTSTART:20191213T000000Z
DTEND:20191213T030000Z
X-MICROSOFT-CDO-ALLDAYEVENT:FALSE
SUMMARY:T-R-I-V-I-A at The Salted Rim
DESCRIPTION:T-R-I-V-I-A\n\n7 pm\n\nThe Salted Rim in Ocean View\, DE\n\nwith DJ Pat\n\nEvery Thursday\n\n \n\nTV drawing and give-away Thursday\, December 19\, 2019\n\nFree to Play              Must be 21\n\n$25 Salted Rim Gift Card awarded each week\n\n \n\nCome join us for T-R-I-V-I-A every Thursday at 7:00 pm.  Sign in each week for an entry into the contest.  The more weeks you participate the greater your chances of winning!\n\n\n\nMust be present to win on Thursday\, December 19th. One entry per week per person. Must be present and play to sign in each week.\n\n \n\nSpecials During TRIVIA\n\n4-9pm\n\nSelect Dinners   $16\n\nNFL Specials - During All Pro Games\n\n \n\nVisit our website http://saltedrimde.com and check out all of our events including Bingo on Monday's\, Karaoke on Tuesday's and Mingo on Wednesday's.\n\n \n\nHope to see your there!!
X-ALT-DESC;FMTTYPE=text/html:<div style="text-align: center\;"><br />\n<span style="font-size: 14px\;"><span style="font-family: arial\;"><strong><span style="font-size: 20px\;"><span style="color: rgb(0\, 0\, 205)\;">T-R-I-V-I-A</span></span><br />\n7 pm<br />\nThe Salted Rim in Ocean View\, DE<br />\nwith DJ Pat<br />\nEvery Thursday</strong></span></span><br />\n&nbsp\;</div>\n\n<div style="text-align: center\;"><span style="font-size: 14px\;"><span style="font-family: arial\;"><strong>TV drawing and give-away Thursday\, December 19\, 2019</strong></span></span></div>\n\n<div style="text-align: center\;"><span style="font-size: 14px\;"><span style="font-family: arial\;"><strong>Free to Play&nbsp\; &nbsp\; &nbsp\; &nbsp\; &nbsp\; &nbsp\; &nbsp\; Must be 21<br />\n$25 Salted Rim Gift Card awarded each week</strong></span></span><br />\n&nbsp\;</div>\n\n<div><span style="font-size: 14px\;"><span style="font-family: arial\;">Come join us for T-R-I-V-I-A every Thursday at 7:00 pm.&nbsp\; Sign in each week for an entry into the contest.&nbsp\; The more weeks you participate the greater your chances of winning!<br />\n<br />\nMust be present to win on Thursday\, December 19th. One entry per week per person. Must be present and play to sign in each week.</span></span><br />\n&nbsp\;</div>\n\n<div style="text-align: center\;"><span style="color: rgb(51\, 51\, 51)\; font-family: sans-serif\,arial\,verdana\,trebuchet ms\; font-size: 16px\; background-color: rgb(255\, 255\, 255)\;"><strong><span style="color: rgb(0\, 0\, 255)\;">Specials During TRIVIA</span><br />\n<span style="font-size: 12px\;">4-9pm</span><br />\n<span style="color: rgb(0\, 0\, 255)\;"><span style="font-size: 14px\;">Select Dinners&nbsp\; &nbsp\;$16<br />\nNFL Specials - During All Pro Games</span></span></strong></span><br />\n&nbsp\;</div>\n\n<div><span style="font-size: 14px\;"><span style="font-family: arial\;">Visit our website <a href="http://saltedrimde.com">http://saltedrimde.com</a>&nbsp\;and check out all of our events including Bingo on Monday&#39\;s\, Karaoke on Tuesday&#39\;s and Mingo on Wednesday&#39\;s.</span></span></div>\n\n<div>&nbsp\;</div>\n\n<div style="text-align: center\;"><span style="font-size: 14px\;"><span style="font-family: arial\;"><strong><span style="color: rgb(0\, 0\, 0)\;">Hope to see your there!!</span></strong></span></span></div>\n
LOCATION:The Salted Rim 27 Atlantic Avenue Ocean View\, DE 19970 302-537-7373
UID:e.2126.17240
SEQUENCE:3
DTSTAMP:20260426T034708Z
URL:http://business.thequietresorts.com/events/details/t-r-i-v-i-a-at-the-salted-rim-12-12-2019-17240
END:VEVENT

END:VCALENDAR
