BEGIN:VCALENDAR
VERSION:2.0
PRODID:-//ChamberMaster//Event Calendar 2.0//EN
METHOD:PUBLISH
X-PUBLISHED-TTL:P3D
REFRESH-INTERVAL:P3D
CALSCALE:GREGORIAN
BEGIN:VEVENT
DTSTART:20240111T200000Z
DTEND:20240111T213000Z
X-MICROSOFT-CDO-ALLDAYEVENT:FALSE
SUMMARY:T-Mobile Millville Grand Opening Ribbon Cutting
DESCRIPTION:This event has been postponed to Thursday\, January 11th!\n\n\n\nJoin the Bethany-Fenwick Area Chamber of Commerce on Thursday\, January 11th\, at 3:00PM for a ribbon cutting celebrating the grand opening of T-Mobile's new location in Millville!  Refreshments will be provided.
X-ALT-DESC;FMTTYPE=text/html:<span style="color:#FF0000\;"><strong>This event has been postponed to Thursday\, January 11th!</strong></span><br />\n<br />\nJoin the Bethany-Fenwick Area Chamber of Commerce on Thursday\, January 11th\, at 3:00PM for a ribbon cutting celebrating the grand opening of T-Mobile&#39\;s new location in Millville!&nbsp\; Refreshments will be provided.&nbsp\;
LOCATION:T-Mobile - Millville 31308 Railway Rd. Units 100 & 101 Millville\, DE 19967
UID:e.2126.27389
SEQUENCE:3
DTSTAMP:20260420T140153Z
URL:http://business.thequietresorts.com/events/details/t-mobile-millville-grand-opening-ribbon-cutting-27389
END:VEVENT

END:VCALENDAR
