BEGIN:VCALENDAR
VERSION:2.0
PRODID:-//ChamberMaster//Event Calendar 2.0//EN
METHOD:PUBLISH
X-PUBLISHED-TTL:P3D
REFRESH-INTERVAL:P3D
CALSCALE:GREGORIAN
BEGIN:VEVENT
DTSTART:20240605T190000Z
DTEND:20240605T203000Z
X-MICROSOFT-CDO-ALLDAYEVENT:FALSE
SUMMARY:T. Carney Sussex Law Bethany Beach Office Grand Opening Ribbon Cutting
DESCRIPTION:Join the Bethany-Fenwick Area Chamber of Commerce on Wednesday\, June 5th\, to celebrate the grand opening of T. Carney Sussex Law's new location in Bethany Beach with a ribbon cutting ceremony!  The event will start at 3:00 PM with the ribbon to be cut at 4:00 PM. \n\n\n\nT. Carney Sussex Law is invested in their customers and strives to serve them beyond just the services they render.  They focus on providing the best comprehensive legal services for real estate matters in the area\, including residential\, commercial\, and land use transactions. \n\n\n\nStop by at the end of your workday to see the new office\, meet the T. Carney team\, and enjoy light refreshments!
X-ALT-DESC;FMTTYPE=text/html:Join the Bethany-Fenwick Area Chamber of Commerce on Wednesday\, June 5th\, to celebrate the grand opening of T. Carney Sussex Law&#39\;s new location in Bethany Beach with a ribbon cutting ceremony!&nbsp\; The event will start at 3:00 PM with the ribbon to be cut at 4:00 PM.&nbsp\;<br />\n<br />\nT. Carney Sussex Law is invested in their customers and strives to serve them beyond just the services they render.&nbsp\; They focus on providing the best comprehensive legal services for real estate matters in the area\, including residential\, commercial\, and land use transactions.&nbsp\;<br />\n<br />\nStop by at the end of your workday to see the new office\, meet the T. Carney team\, and enjoy light refreshments!
LOCATION:34026 Coastal Hwy. Bethany Beach\, DE 19930
UID:e.2126.29918
SEQUENCE:3
DTSTAMP:20260420T110344Z
URL:http://business.thequietresorts.com/events/details/t-carney-sussex-law-bethany-beach-office-grand-opening-ribbon-cutting-29918
END:VEVENT

END:VCALENDAR
