BEGIN:VCALENDAR
VERSION:2.0
PRODID:-//ChamberMaster//Event Calendar 2.0//EN
METHOD:PUBLISH
X-PUBLISHED-TTL:P3D
REFRESH-INTERVAL:P3D
CALSCALE:GREGORIAN
BEGIN:VEVENT
DTSTART:20230728T230000Z
DTEND:20230729T020000Z
X-MICROSOFT-CDO-ALLDAYEVENT:FALSE
SUMMARY:T.3 at the Freeman Arts Pavilion
DESCRIPTION:ADMISSION: FREE\n\nT.3 is a New York based vocal group composed of Liam Fennecken (School of Rock)\, Jim Hogan (Waitress) and Brendan Jacob Smith (The Simon & Garfunkel Story). They gained popularity on social media platforms with covers of Disney\, Broadway and Pop hits. Feel free to follow them on social media: @t.3official #T3Thursday #tiktoktenors.
X-ALT-DESC;FMTTYPE=text/html:<h6>ADMISSION: FREE</h6>\n\n<p>T.3 is a New York based vocal group composed of Liam Fennecken (School of Rock)\, Jim Hogan (Waitress) and Brendan Jacob Smith (The Simon &amp\; Garfunkel Story). They gained popularity on social media platforms with covers of Disney\, Broadway and Pop hits. Feel free to follow them on social media: @t.3official #T3Thursday #tiktoktenors.</p>\n
LOCATION:Freeman Arts Pavilion a program of the Joshua M. Freeman Foundation is a champion of the arts on Delmarva\, providing diverse arts performances as well as arts access programs for local schools and the community at large. From June-September the Freeman Arts Pavilion is an open-air performance space showcasing music\, dance\, comedy\, theater\, children's programs\, and free events.
UID:e.2126.26109
SEQUENCE:3
DTSTAMP:20260420T230423Z
URL:http://business.thequietresorts.com/events/details/t-3-at-the-freeman-arts-pavilion-26109
END:VEVENT

END:VCALENDAR
