BEGIN:VCALENDAR
VERSION:2.0
PRODID:-//ChamberMaster//Event Calendar 2.0//EN
METHOD:PUBLISH
X-PUBLISHED-TTL:P3D
REFRESH-INTERVAL:P3D
CALSCALE:GREGORIAN
BEGIN:VEVENT
DTSTART:20200801T000000Z
DTEND:20200801T020000Z
X-MICROSOFT-CDO-ALLDAYEVENT:FALSE
SUMMARY:Sweet Baby James
DESCRIPTION:Sam Hyman's "Sweet Baby James" show is a masterful tribute to the music of James Taylor. Sam's uncanny resemblance and astonishing capture of Taylor's vocal and guitar styles leaves audiences feeling like they've just seen and heard the legend himself. Sam's unique guitar style\, soulful voice\, original songs and interpretations of timeless classics have captivated thousands of audiences the world over. Musician\, vocalist and composer\, Sam's original music has been featured in television and theatrical productions around the globe. Sam received his degree in music composition from the prestigious D'Angelo School of Music\, and has since worked with music industry greats such as Lou Rawls\, Eric Burden\, Peter\, Paul and Mary\, Crosby Stills & Nash\, Mitch Ryder\, Aimee Mann\, 10\,000 Maniacs and The Violent Femmes. He collaborated with Praz (Fugees\, Wyclef Jean\, Lauren Hill) on Dante Thomas's cover of Sam's original song "Fly\," the title cut of Dante's freshman Elektra Records release. Recently\, Sam's original song "You're In My Heart" was featured on CBS Television's "The Young and the Restless."
X-ALT-DESC;FMTTYPE=text/html:<span style="font-size: 14px\;"><span style="font-family: arial\;">Sam Hyman&#39\;s &ldquo\;Sweet Baby James&rdquo\; show is a masterful tribute to the music of James Taylor. Sam&rsquo\;s uncanny resemblance and astonishing capture of Taylor&rsquo\;s vocal and guitar styles leaves audiences feeling like they&rsquo\;ve just seen and heard the legend himself. Sam&rsquo\;s unique guitar style\, soulful voice\, original songs and interpretations of timeless classics have captivated thousands of audiences the world over. Musician\, vocalist and composer\, Sam&rsquo\;s original music has been featured in television and theatrical productions around the globe. Sam received his degree in music composition from the prestigious D&rsquo\;Angelo School of Music\, and has since worked with music industry greats such as Lou Rawls\, Eric Burden\, Peter\, Paul and Mary\, Crosby Stills &amp\; Nash\, Mitch Ryder\, Aimee Mann\, 10\,000 Maniacs and The Violent Femmes. He collaborated with Praz (Fugees\, Wyclef Jean\, Lauren Hill) on Dante Thomas&rsquo\;s cover of Sam&rsquo\;s original song &quot\;Fly\,&quot\; the title cut of Dante&rsquo\;s freshman Elektra Records release. Recently\, Sam&rsquo\;s original song &ldquo\;You&rsquo\;re In My Heart&rdquo\; was featured on CBS Television&rsquo\;s &quot\;The Young and the Restless.&quot\;</span></span>
LOCATION:The Freeman Stage 31750 Lake View Drive Selbyville\, DE 19975
UID:e.2126.21702
SEQUENCE:3
DTSTAMP:20260425T163342Z
URL:http://business.thequietresorts.com/events/details/sweet-baby-james-21702
END:VEVENT

END:VCALENDAR
