BEGIN:VCALENDAR
VERSION:2.0
PRODID:-//ChamberMaster//Event Calendar 2.0//EN
METHOD:PUBLISH
X-PUBLISHED-TTL:P3D
REFRESH-INTERVAL:P3D
CALSCALE:GREGORIAN
BEGIN:VEVENT
DTSTART:20200214T000000Z
DTEND:20200216T030000Z
X-MICROSOFT-CDO-ALLDAYEVENT:FALSE
SUMMARY:Sussex Tech High School Presents “9 to 5” the musical!
DESCRIPTION:Sussex Tech High School's Drama Program presents Dolly Parton's musical "9 to 5"!
X-ALT-DESC;FMTTYPE=text/html:<span style="font-size: 14px\;"><span style="font-family: arial\;">Sussex Tech High School&rsquo\;s Drama Program presents Dolly Parton&rsquo\;s musical &ldquo\;9 to 5&rdquo\;!</span></span>
LOCATION:Clearspace Theatre 20 Baltimore Ave Rehoboth Beach\, DE 19971
UID:e.2126.19678
SEQUENCE:3
DTSTAMP:20260426T003853Z
URL:http://business.thequietresorts.com/events/details/sussex-tech-high-school-presents-9-to-5-the-musical-19678
END:VEVENT

END:VCALENDAR
