BEGIN:VCALENDAR
VERSION:2.0
PRODID:-//ChamberMaster//Event Calendar 2.0//EN
METHOD:PUBLISH
X-PUBLISHED-TTL:P3D
REFRESH-INTERVAL:P3D
CALSCALE:GREGORIAN
BEGIN:VEVENT
DTSTART:20240518T140000Z
DTEND:20240518T180000Z
X-MICROSOFT-CDO-ALLDAYEVENT:FALSE
SUMMARY:Sussex County Children's Book Festival at Georgetown Public Library
DESCRIPTION:The Sussex County Children's Book Festival is a free & fun-filled day of literacy\, arts\, education & community. This year the festival will be held at the Georgetown Public Library on Saturday\, May 18\, 2024.
X-ALT-DESC;FMTTYPE=text/html:<span style="color:rgb(5\, 5\, 5)\; font-family:segoe ui historic\,segoe ui\,helvetica\,arial\,sans-serif\; font-size:15px">The Sussex County Children&#39\;s Book Festival is a free &amp\; fun-filled day of literacy\, arts\, education &amp\; community. This year the festival will be held at the Georgetown Public Library on Saturday\, May 18\, 2024.</span>
LOCATION:Georgetown Public Library 123 West Pine St. Georgetown\, DE 19947
UID:e.2126.28721
SEQUENCE:3
DTSTAMP:20260420T042450Z
URL:http://business.thequietresorts.com/events/details/sussex-county-children-s-book-festival-at-georgetown-public-library-28721
END:VEVENT

END:VCALENDAR
