BEGIN:VCALENDAR
VERSION:2.0
PRODID:-//ChamberMaster//Event Calendar 2.0//EN
METHOD:PUBLISH
X-PUBLISHED-TTL:P3D
REFRESH-INTERVAL:P3D
CALSCALE:GREGORIAN
BEGIN:VEVENT
DTSTART:20200512T220000Z
DTEND:20200513T000000Z
X-MICROSOFT-CDO-ALLDAYEVENT:FALSE
SUMMARY:Surviving The Great Shutdown and Preparing for Reopening Delaware - Zoom Webinar
DESCRIPTION:Tuesday May 12\, 2020 at 6:00 PM (Webinar)\n\nhttp://events.constantcontact.com/register/event?llr=hg69x9dab&oeidk=a07eh2mohildb9b2e68\n\n \n\nDelaware SCORE wants to help you not only survive The Great Shutdown\, but to continue to thrive during and after The Shutdown.\n\nWhen Delaware Reopens - Are You Ready? "Would you? Should You? Could You? Reopen." Join SCORE on a Q&A discussion of the topic.\n\nWe will explore both topics by discussing appropriate checklists.\n\n \n\nCheck in our website routinely to see SCORE's latest courses. We hope to schedule a couple of panel discussions in the near future.
X-ALT-DESC;FMTTYPE=text/html:<span style="font-size:14px\;"><span style="font-family:arial\;"><span style="color:#403F42\;">Tuesday May 12\, 2020 at 6:00 PM (Webinar)</span><br />\n<span style="color:#403F42\;"><a href="http://events.constantcontact.com/register/event?llr=hg69x9dab&amp\;oeidk=a07eh2mohildb9b2e68">http://events.constantcontact.com/register/event?llr=hg69x9dab&amp\;oeidk=a07eh2mohildb9b2e68</a></span><br />\n&nbsp\;<br />\n<span style="color:#333333\;">Delaware SCORE wants to help you not only survive The Great Shutdown\, but to continue to thrive during and after The Shutdown.</span><br />\n<span style="color:#333333\;">When Delaware Reopens - Are You Ready? &ldquo\;Would you? Should You? Could You? Reopen.&quot\; Join SCORE on a Q&amp\;A discussion of the topic.</span><br />\n<span style="color:#333333\;">We will explore both topics by discussing appropriate checklists.</span><br />\n&nbsp\;<br />\n<span style="color:#403F42\;">Check in our website routinely to see SCORE&#39\;s latest courses. We hope to schedule a couple of panel discussions in the near future.</span></span></span><br />\n&nbsp\;<br />\n<font face="arial\, sans-serif"><span style="font-size: 12px\;"><b>&nbsp\;</b></span></font>
LOCATION:
UID:e.2126.21520
SEQUENCE:3
DTSTAMP:20260425T211735Z
URL:http://business.thequietresorts.com/events/details/surviving-the-great-shutdown-and-preparing-for-reopening-delaware-zoom-webinar-21520
END:VEVENT

END:VCALENDAR
