BEGIN:VCALENDAR
VERSION:2.0
PRODID:-//ChamberMaster//Event Calendar 2.0//EN
METHOD:PUBLISH
X-PUBLISHED-TTL:P3D
REFRESH-INTERVAL:P3D
CALSCALE:GREGORIAN
BEGIN:VEVENT
DTSTART:20230630T160000Z
DTEND:20230630T173000Z
X-MICROSOFT-CDO-ALLDAYEVENT:FALSE
SUMMARY:Sunshine Plaza Renovations and J.R's Seafood Shack Grand Opening Ribbon Cutting
DESCRIPTION:Join the Bethany-Fenwick Area Chamber of Commerce and businesses of Sunshine Plaza\, including Beach Break Boutique\, Pottery Place\, and J.R.'s Seafood Shack\, to celebrate recent building renovations and the grand opening of J.R.'s Seafood Shack on Friday\, June 30th!  The event will begin at 12:00PM with the ribbon cutting taking place at 1:00PM.  J.R.'s will be providing food\, and Pottery Place and Beach Break Boutique will be running raffles and doing giveaways!  Stay after for lunch at J.R.'s or just to check out some of Fenwick Island's local shops before the holiday weekend.
X-ALT-DESC;FMTTYPE=text/html:Join the Bethany-Fenwick Area Chamber of Commerce and businesses of Sunshine Plaza\, including Beach Break Boutique\, Pottery Place\, and J.R.&#39\;s Seafood Shack\, to celebrate recent building renovations and the grand opening of J.R.&#39\;s Seafood Shack on Friday\, June 30th!&nbsp\; The event will begin at 12:00PM with the ribbon cutting taking place at 1:00PM.&nbsp\; J.R.&#39\;s will be providing food\, and Pottery Place and Beach Break Boutique will be running raffles and doing giveaways!&nbsp\; Stay after for lunch at J.R.&#39\;s or just to check out some of Fenwick Island&#39\;s local shops before the holiday weekend.&nbsp\;
LOCATION:Sunshine Plaza 1500 Coastal Highway Fenwick Island\, DE 19944
UID:e.2126.26153
SEQUENCE:3
DTSTAMP:20260421T005213Z
URL:http://business.thequietresorts.com/events/details/sunshine-plaza-renovations-and-j-r-s-seafood-shack-grand-opening-ribbon-cutting-26153
END:VEVENT

END:VCALENDAR
