BEGIN:VCALENDAR
VERSION:2.0
PRODID:-//ChamberMaster//Event Calendar 2.0//EN
METHOD:PUBLISH
X-PUBLISHED-TTL:P3D
REFRESH-INTERVAL:P3D
CALSCALE:GREGORIAN
BEGIN:VEVENT
DTSTART:20220605T120000Z
DTEND:20220605T160000Z
X-MICROSOFT-CDO-ALLDAYEVENT:FALSE
SUMMARY:SUNDAY\, JUNE 5 - BETHANY BEACH FARMERS' MARKET - FIRST MARKET OF THE 2022 SEASON
DESCRIPTION:Please join us on June 5 for our opening Market - our hours are from 8am until 12noon. The Market will be held in the PNC parking lot at the corner of Garfield Pkwy and Pennsylvania Ave. The BBFM is strictly a local producers' only market. Participation in the market is for regional farms/ growers/ waterman/ bakers who sell what they grow\, raise and/or produce.
X-ALT-DESC;FMTTYPE=text/html:<span style="font-size:14px\;"><span style="font-family:arial\;"><strong>Please join us on June 5 for our opening Market - our hours are from 8am until 12noon. The Market will be held in the PNC parking lot at the corner of Garfield Pkwy and Pennsylvania Ave. The BBFM is strictly a local producers&rsquo\; only market. Participation in the market is for regional farms/ growers/ waterman/ bakers who sell what they grow\, raise and/or produce.</strong></span></span>
LOCATION:The Market will be held in the PNC parking lot at the corner of Garfield Pkwy and Pennsylvania Ave.
UID:e.2126.23748
SEQUENCE:3
DTSTAMP:20260422T001330Z
URL:http://business.thequietresorts.com/events/details/sunday-june-5-bethany-beach-farmers-market-first-market-of-the-2022-season-23748
END:VEVENT

END:VCALENDAR
