BEGIN:VCALENDAR
VERSION:2.0
PRODID:-//ChamberMaster//Event Calendar 2.0//EN
METHOD:PUBLISH
X-PUBLISHED-TTL:P3D
REFRESH-INTERVAL:P3D
CALSCALE:GREGORIAN
BEGIN:VEVENT
DTSTART;VALUE=DATE:20220213
DTEND;VALUE=DATE:20220214
TRANSP:TRANSPARENT
X-MICROSOFT-CDO-ALLDAYEVENT:TRUE
SUMMARY:Sunday Football at The Salted Rim
DESCRIPTION:SUNDAY FOOTBALL\n\nat\n\nThe Salted Rim Margarita Bar & Grille\n\n\n\n\n\nWe Have The Ticket!!!\n\n\n\nwatch your favorite team on one of our 17 Hi Def TV's\n\nin either our Inside dining room or Outside on our covered patio\n\n\n\nFood & Drink Specials available All Day Sunday \n\n\n\nvisit our website http://www.saltedrimde.com EVENTS for more information.
X-ALT-DESC;FMTTYPE=text/html:<div style="text-align:center"><span style="font-size:12px"><span style="font-family:comic sans ms"><span style="font-family:arial\;"><span style="color:#A52A2A"><span style="font-size:18px"><strong>SUNDAY FOOTBALL</strong></span></span></span><br />\n<span style="font-size:14px\;"><span style="font-family:arial\;">at<br />\nThe Salted Rim Margarita Bar &amp\; Grille<br />\n<br />\n<br />\n<span style="color:#0000FF"><strong>We Have The Ticket!!!</strong></span><br />\n<br />\nwatch your favorite team on one of our 17 Hi Def TV&#39\;s<br />\nin either our Inside dining room or Outside on our covered patio<br />\n<br />\n<strong>Food &amp\; Drink Specials available All Day Sunday&nbsp\;</strong><br />\n<br />\nvisit our website&nbsp\;<a href="http://saltedrimde.com">http://www.saltedrimde.com</a>&nbsp\;EVENTS for more information.</span></span></span></span><br />\n&nbsp\;</div>\n
LOCATION:The Salted Rim Margarita Bar & Grille 35553 Atlantic Avenue Millville\, DE 19967 302-537-7373
UID:e.2126.22968
SEQUENCE:3
DTSTAMP:20260424T055327Z
URL:http://business.thequietresorts.com/events/details/sunday-football-at-the-salted-rim-02-13-2022-22968
END:VEVENT

END:VCALENDAR
