BEGIN:VCALENDAR
VERSION:2.0
PRODID:-//ChamberMaster//Event Calendar 2.0//EN
METHOD:PUBLISH
X-PUBLISHED-TTL:P3D
REFRESH-INTERVAL:P3D
CALSCALE:GREGORIAN
BEGIN:VEVENT
DTSTART:20240417T170000Z
DTEND:20240417T181500Z
X-MICROSOFT-CDO-ALLDAYEVENT:FALSE
SUMMARY:Summer Work Travel and Camp Counselor Community Webinar
DESCRIPTION:Gear up for a Summer of Action: Join the Alliance for International Exchange for a discussion on amplifying the impact of the BridgeUSA Summer Work Travel and Camp Counselor Programs on local businesses and communities.\n\n\n\nThis free webinar will explore the ways for program stakeholders\, including host employers\, local Chambers of Commerce\, Community Support Groups\, and others\, to actively amplify the impact of these vital public diplomacy programs across the United States this summer.\n\n\n\nFeatured Speaker: Rebecca Pasini: Deputy Assistant Secretary for Private Sector Exchanges Bureau of Education and Cultural Affairs.
X-ALT-DESC;FMTTYPE=text/html:Gear up for a Summer of Action: Join the Alliance for International Exchange for a discussion on amplifying the impact of the BridgeUSA Summer Work Travel and Camp Counselor Programs on local businesses and communities.<br />\n<br />\nThis free webinar will explore the ways for program stakeholders\, including host employers\, local Chambers of Commerce\, Community Support Groups\, and others\, to actively amplify the impact of these vital public diplomacy programs across the United States this summer.<br />\n<br />\nFeatured Speaker: Rebecca Pasini: Deputy Assistant Secretary for Private Sector Exchanges Bureau of Education and Cultural Affairs.
LOCATION:Online
UID:e.2126.29192
SEQUENCE:3
DTSTAMP:20260420T060524Z
URL:http://business.thequietresorts.com/events/details/summer-work-travel-and-camp-counselor-community-webinar-29192
END:VEVENT

END:VCALENDAR
