BEGIN:VCALENDAR
VERSION:2.0
PRODID:-//ChamberMaster//Event Calendar 2.0//EN
METHOD:PUBLISH
X-PUBLISHED-TTL:P3D
REFRESH-INTERVAL:P3D
CALSCALE:GREGORIAN
BEGIN:VEVENT
DTSTART:20240608T220000Z
DTEND:20240609T000000Z
X-MICROSOFT-CDO-ALLDAYEVENT:FALSE
SUMMARY:Summer Reading Kick-Off Party 2024 with Georgetown Public Library
DESCRIPTION:Georgetown Public Library warmly invites you to join us at Sandhill Fields for our Summer Reading Kick-Off Party 2024!  The event will take place on Saturday\, June 8 at 6:00pm and will feature entertainment of all different varieties!  We will have live music\, games\, crafts\, ice cream\, a movie and more! \n\nMovie will start at 8:00pm. Please bring chairs or a blanket to sit on.
X-ALT-DESC;FMTTYPE=text/html:<p><span style="font-size:18px">Georgetown Public Library warmly invites you to join us at Sandhill Fields for our Summer Reading Kick-Off Party 2024!&nbsp\; The event will&nbsp\;take place on Saturday\, June 8&nbsp\;at 6:00pm and will feature entertainment of all different varieties!&nbsp\; We will have live music\, games\, crafts\, ice cream\, a movie and more!&nbsp\;</span></p>\n\n<p><span style="font-size:18px">Movie will start at 8:00pm. Please bring chairs or a blanket to sit on.&nbsp\;&nbsp\;</span></p>\n
LOCATION:Sandhill Fields 20330 Sand Hill Rd\, Georgetown\, DE 19947
UID:e.2126.29287
SEQUENCE:3
DTSTAMP:20260420T090824Z
URL:http://business.thequietresorts.com/events/details/summer-reading-kick-off-party-2024-with-georgetown-public-library-29287
END:VEVENT

END:VCALENDAR
