BEGIN:VCALENDAR
VERSION:2.0
PRODID:-//ChamberMaster//Event Calendar 2.0//EN
METHOD:PUBLISH
X-PUBLISHED-TTL:P3D
REFRESH-INTERVAL:P3D
CALSCALE:GREGORIAN
BEGIN:VEVENT
DTSTART:20220622T140000Z
DTEND:20220622T170000Z
X-MICROSOFT-CDO-ALLDAYEVENT:FALSE
SUMMARY:Ocean View's Summer Open House(s)
DESCRIPTION:Stop in to tour the Civil War-era Tunnell West house\, Ocean View's first post office\, a replica of Cecile Steele's chicken house\, Hall's Store Visitor and Education Center\, and additional buildings on the Coastal Towns Museum property. Docents will be available.
X-ALT-DESC;FMTTYPE=text/html:<span style="font-size:14px\;"><span style="font-family:arial\;"><span style="color:black\;">Stop in to tour the Civil War-era Tunnell West house\, Ocean View&#39\;s first post office\, a replica of Cecile Steele&#39\;s chicken house\, Hall&#39\;s Store Visitor and Education Center\, and additional buildings on the Coastal Towns Museum property. Docents will be available.&nbsp\;</span></span></span>
LOCATION:
UID:e.2126.23686
SEQUENCE:3
DTSTAMP:20260421T222900Z
URL:http://business.thequietresorts.com/events/details/summer-open-house-s-06-22-2022-23686
END:VEVENT

END:VCALENDAR
