BEGIN:VCALENDAR
VERSION:2.0
PRODID:-//ChamberMaster//Event Calendar 2.0//EN
METHOD:PUBLISH
X-PUBLISHED-TTL:P3D
REFRESH-INTERVAL:P3D
CALSCALE:GREGORIAN
BEGIN:VEVENT
DTSTART:20230731T200000Z
DTEND:20230806T000000Z
X-MICROSOFT-CDO-ALLDAYEVENT:FALSE
SUMMARY:Summer Nights at the Senior League World Series
DESCRIPTION:The Senior League World Series returns this summer to our very own backyard. For nearly 20 years\, Sussex County has been one of 6 host locations for the Senior League Softball World Series Tournament. Over the course of the week\, 10 US and 4 international regional championship teams (Age 13-17) will face off under the lights from July 31-August 6. The Bethany-Fenwick Area Chamber of Commerce invites you to join in making Sussex County a highlight on the World Series hub list.  Attendance will exceed 20\,000 and all 25 games will be streamed on ESPN+.\n\n\n\nSummer Nights will be a week-long\, fan/player experience event: games\, backyard-style competitions\, a team spirit station where you can create your own poster for the game\, and more! All these activities will be taking place in the practice field before you enter the main concession hub. \n\n\n\nGet Involved: This is a prime opportunity for businesses and organizations of the Quiet Resorts to get exposure\, create a memorable experience\, and add to the summer fun. \n\n\n\nVolunteer: We bring the games\, just come out and join! Email us to sign up for one or more evenings to help assist in games\, hand out prizes\, etc.\n\n\n\nIf you would like more information on how you or your business can participate in Summer Nights at the Senior League World Series\, please email events@thequietresorts.com. I\n\n\n\nSenior League World Series Softball \n\n2023 Sussex County Game Schedule\n\nClick Here for More Info on the LLWS\n\n	Monday\, July 31\n	\n		4:15PM - Opening Ceremony\n		6:00PM - 2 games\n		8:00PM - 2 games\n	\n	\n	Tuesday\, August 1\n	\n		3:00PM - 2 games\n		5:30PM - 2 games\n		8:00PM - 2 games\n	\n	\n	Wednesday\, August 2\n	\n		5:30PM - 2 games\n		8:00PM - 2 games\n	\n	\n	Thursday\, August 3\n	\n		3:00PM - 2 games\n		5:30PM - 2 games\n		8:00PM - 2 games\n	\n	\n	Friday\, August 4\n	\n		12:30PM - 1 game\n		3:00PM - 1 game\n		5:30PM - 1 game\n		8:00PM - 1 game\n	\n	\n	Saturday\, August 5\n	\n		3:00PM - 2 games\n		5:30PM - 1 game\n		8:00PM - 2 games\n	\n	\n	Sunday\, August 6\n	\n		Consolation Game\n		Championship Game
X-ALT-DESC;FMTTYPE=text/html:The Senior League World Series returns this summer to our very own backyard. For nearly 20 years\, Sussex County has been one of 6 host locations for the Senior League Softball World Series Tournament. Over the course of the week\, 10 US and 4 international regional championship teams (Age 13-17) will face off under the lights from July 31-August 6. The Bethany-Fenwick Area Chamber of Commerce invites you to join in making Sussex County a highlight on the World Series hub list.&nbsp\; Attendance will exceed 20\,000 and all 25 games will be streamed on ESPN+.<br />\n<br />\nSummer Nights will be a week-long\, fan/player experience event: games\, backyard-style competitions\, a team spirit station where you can create your own poster for the game\, and more! All these activities will be taking place in the practice field before you enter the main concession hub.&nbsp\;<br />\n<br />\n<strong>Get Involved:</strong>&nbsp\;This is a prime opportunity for businesses and organizations of the Quiet Resorts to get exposure\, create a memorable experience\, and add to the summer fun.&nbsp\;<br />\n<br />\n<strong>Volunteer:</strong> We bring the games\, just come out and join! Email us to sign up for one or more evenings to help assist in games\, hand out prizes\, etc.<br />\n<br />\nIf you would like more information on how you or your business can participate in Summer Nights at the Senior League World Series\, please email <a href="mailto:events@thequietresorts.com">events@thequietresorts.com</a>. I<br />\n<br />\n<strong><span style="font-size:18px\;">Senior League World Series Softball&nbsp\;</span></strong><br />\n<strong><span style="font-size:14px\;">2023 Sussex County Game Schedule</span><br />\n<a href="https://www.littleleague.org/world-series/2023/slsws/tournaments/world-series/">Click Here for More Info on the LLWS</a></strong>\n<ul>\n	<li><strong>Monday\, July 31</strong>\n	<ul>\n		<li>4:15PM - Opening Ceremony</li>\n		<li>6:00PM - 2 games</li>\n		<li>8:00PM - 2 games</li>\n	</ul>\n	</li>\n	<li><strong>Tuesday\, August 1</strong>\n	<ul>\n		<li>3:00PM - 2 games</li>\n		<li>5:30PM - 2 games</li>\n		<li>8:00PM - 2 games</li>\n	</ul>\n	</li>\n	<li><strong>Wednesday\, August 2</strong>\n	<ul>\n		<li>5:30PM - 2 games</li>\n		<li>8:00PM - 2 games</li>\n	</ul>\n	</li>\n	<li><strong>Thursday\, August 3</strong>\n	<ul>\n		<li>3:00PM - 2 games</li>\n		<li>5:30PM - 2 games</li>\n		<li>8:00PM - 2 games</li>\n	</ul>\n	</li>\n	<li><strong>Friday\, August 4</strong>\n	<ul>\n		<li>12:30PM - 1 game</li>\n		<li>3:00PM - 1 game</li>\n		<li>5:30PM - 1&nbsp\;game</li>\n		<li>8:00PM - 1 game</li>\n	</ul>\n	</li>\n	<li><strong>Saturday\, August 5</strong>\n	<ul>\n		<li>3:00PM - 2 games</li>\n		<li>5:30PM - 1 game</li>\n		<li>8:00PM - 2 games</li>\n	</ul>\n	</li>\n	<li><strong>Sunday\, August 6</strong>\n	<ul>\n		<li>Consolation Game</li>\n		<li>Championship Game</li>\n	</ul>\n	</li>\n</ul>\n
LOCATION:Practice Field 34476 Pyle Center Rd\, Frankford\, DE 19945
UID:e.2126.26173
SEQUENCE:3
DTSTAMP:20260420T213556Z
URL:http://business.thequietresorts.com/events/details/summer-nights-at-the-senior-league-world-series-26173
END:VEVENT

END:VCALENDAR
