BEGIN:VCALENDAR
VERSION:2.0
PRODID:-//ChamberMaster//Event Calendar 2.0//EN
METHOD:PUBLISH
X-PUBLISHED-TTL:P3D
REFRESH-INTERVAL:P3D
CALSCALE:GREGORIAN
BEGIN:VEVENT
DTSTART:20230616T220000Z
DTEND:20230617T003000Z
X-MICROSOFT-CDO-ALLDAYEVENT:FALSE
SUMMARY:Summer Fest + Old Timer's Day Weekend Kickoff at Salem United Methodist Church
DESCRIPTION:Kick off Old Timer's Day Weekend 2023 with a Summer Fest at Salem United Methodist Church on Friday\, June 16th!  This is the first of three summer block parties that Salem United Methodist Church will be hosting\, complete with fun for the whole family including food\, and a movie starting at 7:00pm.  This is a free event!\n\n\n\nActivities Include: \n\n- Bounce houses \n\n- Free food \n\n- Family friendly movie (inside) - bring your favorite camp chair or blanket for seating\n\n- Kids carnival games
X-ALT-DESC;FMTTYPE=text/html:Kick off Old Timer&#39\;s Day Weekend 2023 with a Summer Fest at Salem United Methodist Church on Friday\, June 16th!&nbsp\; This is the first of three summer block parties that Salem United Methodist Church will be hosting\, complete with fun for the whole family including food\, and a movie starting at 7:00pm.&nbsp\; This is a free event!<br />\n<br />\nActivities Include:&nbsp\;<br />\n- Bounce houses&nbsp\;<br />\n- Free food&nbsp\;<br />\n- Family friendly movie (inside) - bring your favorite camp chair or blanket for seating<br />\n- Kids carnival games
LOCATION:Salem United Methodist Church 29 W. Church St. Selbyville\, DE\, 19975
UID:e.2126.25873
SEQUENCE:3
DTSTAMP:20260421T004837Z
URL:http://business.thequietresorts.com/events/details/summer-fest-old-timer-s-day-weekend-kickoff-at-salem-united-methodist-church-25873
END:VEVENT

END:VCALENDAR
