BEGIN:VCALENDAR
VERSION:2.0
PRODID:-//ChamberMaster//Event Calendar 2.0//EN
METHOD:PUBLISH
X-PUBLISHED-TTL:P3D
REFRESH-INTERVAL:P3D
CALSCALE:GREGORIAN
BEGIN:VEVENT
DTSTART:20210710T130000Z
DTEND:20210710T200000Z
X-MICROSOFT-CDO-ALLDAYEVENT:FALSE
SUMMARY:Summer Craft Fair
DESCRIPTION:July in Lewes means the Summer Craft Fair brought to you by The Lewes Historical Society. The Summer Craft Fair is on Saturday\, July 10\, from 9 am to 4 pm at the Lewes Historical Society\, 110 Shipcarpenter Street in Lewes\, Delaware. Admission will be $5.00 per person\, children under 12 are free. Proceeds from this event will benefit educational and preservation programs at The Lewes Historical Society.
X-ALT-DESC;FMTTYPE=text/html:July in Lewes means the Summer Craft Fair brought to you by The Lewes Historical Society. The Summer Craft Fair is on Saturday\, July 10\, from 9 am to 4 pm at the Lewes Historical Society\, 110 Shipcarpenter Street in Lewes\, Delaware. Admission will be $5.00 per person\, children under 12 are free. Proceeds from this event will benefit educational and preservation programs at The Lewes Historical Society.
LOCATION:The Lewes Historical Society 110 Shipcarpenter Street\, Lewes\, DE 19958
UID:e.2126.22380
SEQUENCE:3
DTSTAMP:20260424T172858Z
URL:http://business.thequietresorts.com/events/details/summer-craft-fair-22380
END:VEVENT

END:VCALENDAR
