BEGIN:VCALENDAR
VERSION:2.0
PRODID:-//ChamberMaster//Event Calendar 2.0//EN
METHOD:PUBLISH
X-PUBLISHED-TTL:P3D
REFRESH-INTERVAL:P3D
CALSCALE:GREGORIAN
BEGIN:VEVENT
DTSTART:20220630T003000Z
DTEND:20220630T023000Z
X-MICROSOFT-CDO-ALLDAYEVENT:FALSE
SUMMARY:Summer Comedy Series
DESCRIPTION:Coastline Restaurant Group (Zoca and Harvest Tide) and Triple B Entertainment present Coastline Summer Comedy Series! Three nights of comedy throughout the summer months\, starting with Wednesday\, June 29th! Different comedians each show for a night of laughs! $10 per ticket. Doors open at 8:30pm\, show starts at 9pm. 21+ recommended.
X-ALT-DESC;FMTTYPE=text/html:Coastline Restaurant Group (Zoca and Harvest Tide) and Triple B Entertainment present Coastline Summer Comedy Series! Three nights of comedy throughout the summer months\, starting with Wednesday\, June 29th! Different comedians each show for a night of laughs! $10 per ticket. Doors open at 8:30pm\, show starts at 9pm. 21+ recommended.
LOCATION:Coastline Event Venue- 98 Garfield Parkway\, Third Floor\, Bethany Beach\, DE 19930
UID:e.2126.23797
SEQUENCE:3
DTSTAMP:20260421T222714Z
URL:http://business.thequietresorts.com/events/details/summer-comedy-series-23797
END:VEVENT

END:VCALENDAR
