BEGIN:VCALENDAR
VERSION:2.0
PRODID:-//ChamberMaster//Event Calendar 2.0//EN
METHOD:PUBLISH
X-PUBLISHED-TTL:P3D
REFRESH-INTERVAL:P3D
CALSCALE:GREGORIAN
BEGIN:VEVENT
DTSTART:20231007T230000Z
DTEND:20231008T000000Z
X-MICROSOFT-CDO-ALLDAYEVENT:FALSE
SUMMARY:Sue Matsuki Presents: The Gals That Make Me Sing
DESCRIPTION:Featuring: Musical Director & Arranger Gregory Toroian on Piano and Skip Ward on Bass\n\nMaking their return to our theater in a brand new show\, after performing two wonderful shows last November\, please join this multi-award winning\, New York City\, Cabaret/Jazz performing artist\, Sue Matsuki\, in "The Gals Who Make Me Sing!"\n\nIf Sue could create the perfect singer a "Frankensinger" she would have the unaffected\, straight-ahead phrasing of Rosemary Clooney\, the musicianship of Ella Fitzgerald\, the wild abandon of Dakota Staton\, the vocal quality of Barbra Streisand and the cool of Miss Peggy Lee along with Carmen McRae\, Bonnie Raitt\, Billie Holiday\, Eydie Gorme\, Sarah Vaughn\, Reba McEntire\, Julie London\, Ernestine Anderson\, Miranda Lampert and more\, THESE are the gals\, who make her want to sing. This is not a imitation or cover show Sue pays tribute to these amazing Gals with her own interpretation of their work.\n\n"Sue makes each song her own\, adapting each Gal's song to her own marvelous vocals and interpretation. She makes a song feel like it was written with you in mind versus merely singing someone else's song. See this show!"   John Hoglund\, Bistro Awards
X-ALT-DESC;FMTTYPE=text/html:<p><strong>Featuring: Musical Director &amp\; Arranger Gregory Toroian on Piano and Skip Ward on Bass</strong></p>\n\n<p><strong>Making their return to our theater in a brand new show\, after performing two wonderful shows last November\, please join this multi-award winning\, New York City\, Cabaret/Jazz performing artist\, Sue Matsuki\, in &ldquo\;The Gals Who Make Me Sing!&rdquo\;</strong></p>\n\n<p>If Sue could create the perfect singer&hellip\;a &ldquo\;Frankensinger&rdquo\;&hellip\;she would have the unaffected\, straight-ahead phrasing of Rosemary Clooney\, the musicianship of Ella Fitzgerald\, the wild abandon of Dakota Staton\, the vocal quality of Barbra Streisand and the cool of Miss Peggy Lee along with Carmen McRae\, Bonnie Raitt\, Billie Holiday\, Eydie Gorme\, Sarah Vaughn\, Reba McEntire\, Julie London\, Ernestine Anderson\, Miranda Lampert and more\,&nbsp\;THESE&nbsp\;are the gals\, who make her want to sing. This is not a imitation or cover show&hellip\;Sue pays tribute to these amazing Gals with her own interpretation of their work.</p>\n\n<p>&ldquo\;Sue makes each song her own\, adapting each Gal&rsquo\;s song to her own marvelous vocals and interpretation. She makes a song feel like it was written with you in mind versus merely singing someone else&rsquo\;s song. See this show!&rdquo\; &ndash\; John Hoglund\, Bistro Awards</p>\n\n<p>&nbsp\;</p>\n
LOCATION:Dickens Parlour Theatre 31810 Good Earth Lane Ocean View\, DE 19970
UID:e.2126.26616
SEQUENCE:3
DTSTAMP:20260420T182130Z
URL:http://business.thequietresorts.com/events/details/sue-matsuki-presents-the-gals-that-make-me-sing-26616
END:VEVENT

END:VCALENDAR
