BEGIN:VCALENDAR
VERSION:2.0
PRODID:-//ChamberMaster//Event Calendar 2.0//EN
METHOD:PUBLISH
X-PUBLISHED-TTL:P3D
REFRESH-INTERVAL:P3D
CALSCALE:GREGORIAN
BEGIN:VEVENT
DTSTART:20231006T230000Z
DTEND:20231007T000000Z
X-MICROSOFT-CDO-ALLDAYEVENT:FALSE
SUMMARY:Sue Matsuki Presents: "Jest" Jazz & Blues
DESCRIPTION:Making their return to our theater in a brand new show\, after performing two outstanding shows last November\, please join this multi-award winning\, New York City\, Cabaret/Jazz performing artist\, Sue Matsuki in "JEST" Jazz & Blues. This show will feature funny jazz and blues tunes with just a little angst thrown in for good measure! She's funny AND she can sing? What???\n\n"When was the last time a jazz singer delivered one liners worthy of a stand-up club? When was the last time a performer captured your heart with simple sincerity? But it was her vibrant voice and impeccable musicianship that defined the evening."   Bill Van Sant\, Essex Journal\n\nTonight's show will feature Musical Director/Arranger/Singer\, Gregory Toroian on piano and we're bringing down our amazing bass player\, Skip Ward\, with us this time JAZZ baby!
X-ALT-DESC;FMTTYPE=text/html:<p>Making their return to our theater in a brand new show\, after performing two outstanding shows last November\, please join this multi-award winning\, New York City\, Cabaret/Jazz performing artist\, Sue Matsuki in &ldquo\;JEST&rdquo\; Jazz &amp\; Blues. This show will feature funny jazz and blues tunes with&nbsp\;just a little angst thrown in for good measure! She&rsquo\;s funny&nbsp\;AND&nbsp\;she can sing? What???</p>\n\n<p>&ldquo\;When was the last time a jazz singer delivered one liners worthy of a stand-up club? When was the last time a performer captured your heart with simple sincerity? But it was her vibrant voice and impeccable musicianship that defined the evening.&rdquo\; &ndash\; Bill Van Sant\, Essex Journal</p>\n\n<p>Tonight&rsquo\;s show will feature Musical Director/Arranger/Singer\, Gregory Toroian on piano and we&rsquo\;re bringing down our amazing bass player\, Skip Ward\, with us this time&hellip\;JAZZ baby!</p>\n
LOCATION:Dickens Parlour Theatre 31810 Good Earth Lane Ocean View\, DE 19970
UID:e.2126.26614
SEQUENCE:3
DTSTAMP:20260420T183007Z
URL:http://business.thequietresorts.com/events/details/sue-matsuki-presents-jest-jazz-blues-26614
END:VEVENT

END:VCALENDAR
