BEGIN:VCALENDAR
VERSION:2.0
PRODID:-//ChamberMaster//Event Calendar 2.0//EN
METHOD:PUBLISH
X-PUBLISHED-TTL:P3D
REFRESH-INTERVAL:P3D
CALSCALE:GREGORIAN
BEGIN:VEVENT
DTSTART;VALUE=DATE:20230803
DTEND;VALUE=DATE:20230804
TRANSP:TRANSPARENT
X-MICROSOFT-CDO-ALLDAYEVENT:TRUE
SUMMARY:Succulents & Sangria at Sorella Amore
DESCRIPTION:Succulents & Sangria? Say no more!! Join us at Sorella Amore for an afternoon of fun. We will be making coastal themed terrariums that are the perfect size for desktops\, classrooms\, dorms\, office or any small space in your home. Tickets include all supplies\, plus enjoy complimentary sangria & light snacks.
X-ALT-DESC;FMTTYPE=text/html:Succulents &amp\; Sangria? Say no more!! Join us at Sorella Amore for an afternoon of fun. We will be making coastal themed terrariums that are the perfect size for desktops\, classrooms\, dorms\, office or any small space in your home. Tickets include all supplies\, plus enjoy complimentary sangria &amp\; light snacks.
LOCATION:Sorella Amore 32630 Cedar Drive Millville\, DE 19967 302-579-6947
UID:e.2126.26468
SEQUENCE:3
DTSTAMP:20260420T213231Z
URL:http://business.thequietresorts.com/events/details/succulents-sangria-at-sorella-amore-26468
END:VEVENT

END:VCALENDAR
