BEGIN:VCALENDAR
VERSION:2.0
PRODID:-//ChamberMaster//Event Calendar 2.0//EN
METHOD:PUBLISH
X-PUBLISHED-TTL:P3D
REFRESH-INTERVAL:P3D
CALSCALE:GREGORIAN
BEGIN:VEVENT
DTSTART;VALUE=DATE:20230805
DTEND;VALUE=DATE:20230806
TRANSP:TRANSPARENT
X-MICROSOFT-CDO-ALLDAYEVENT:TRUE
SUMMARY:Succulents & Sangria at Sorella Amore
DESCRIPTION:Bring the beach to your desk with this fun Succulents & Sangria workshop with Sorella Amore! Learn to make a cute desk top terrarium with succulents and enjoy complimentary sangria! Craft the perfect piece of home d cor and take a piece of the beach with you wherever you go. Create a whimsical touch to any environment!
X-ALT-DESC;FMTTYPE=text/html:<span style="color:rgba(18\, 18\, 18\, 0.75)\; font-family:-apple-system\,blinkmacsystemfont\,segoe ui\,roboto\,ubuntu\,helvetica neue\,sans-serif\,apple color emoji\,segoe ui emoji\,segoe ui symbol\; font-size:16px">Bring the beach to your desk with this fun Succulents &amp\; Sangria workshop&nbsp\;with Sorella Amore! Learn to make a cute desk top terrarium with succulents and enjoy complimentary sangria! Craft the perfect piece of home d&eacute\;cor and take a piece of the beach with you wherever you go. Create a whimsical touch to any environment!</span>
LOCATION:Sorella Amore 32630 Cedar Drive Millville\, DE 19967
UID:e.2126.26470
SEQUENCE:3
DTSTAMP:20260420T213356Z
URL:http://business.thequietresorts.com/events/details/succulents-sangria-at-sorella-amore-08-05-2023-26470
END:VEVENT

END:VCALENDAR
