BEGIN:VCALENDAR
VERSION:2.0
PRODID:-//ChamberMaster//Event Calendar 2.0//EN
METHOD:PUBLISH
X-PUBLISHED-TTL:P3D
REFRESH-INTERVAL:P3D
CALSCALE:GREGORIAN
BEGIN:VEVENT
DTSTART:20230713T230000Z
DTEND:20230714T020000Z
X-MICROSOFT-CDO-ALLDAYEVENT:FALSE
SUMMARY:Straight No Chaser: The Yacht Rock Tour
DESCRIPTION:TICKETS ARE $45\n\nIf the phrase "male a cappella group" conjures up an image of students in blue blazers\, ties\, and khakis singing traditional college songs on ivied campuses ... think again. Straight No Chaser (SNC) are neither strait-laced nor straight-faced\, but neither are they vaudeville-style kitsch. They have emerged as a phenomenon with a massive fanbase and a long list of accomplishments including 2 RIAA Gold Certified albums\, over 1.5 million concert tickets sold\, over 1 billion streams on Pandora\, and over 2 million albums sold worldwide. Straight No Chaser is the real deal\, the captivating sound of nine unadulterated human voices coming together to make extraordinary music that is moving people in a fundamental sense ... and with a sense of humor.
X-ALT-DESC;FMTTYPE=text/html:<h6>TICKETS ARE $45</h6>\n\n<p>If the phrase &ldquo\;male a cappella group&rdquo\; conjures up an image of students in blue blazers\, ties\, and khakis singing traditional college songs on ivied campuses ... think again. Straight No Chaser (SNC) are neither strait-laced nor straight-faced\, but neither are they vaudeville-style kitsch. They have emerged as a phenomenon with a massive fanbase and a long list of accomplishments including 2 RIAA Gold Certified albums\, over 1.5 million concert tickets sold\, over 1 billion streams on Pandora\, and over 2 million albums sold worldwide. Straight No Chaser is the real deal\, the captivating sound of nine unadulterated human voices coming together to make extraordinary music that is moving people in a fundamental sense ... and with a sense of humor.</p>\n
LOCATION:Freeman Arts Pavilion a program of the Joshua M. Freeman Foundation is a champion of the arts on Delmarva\, providing diverse arts performances as well as arts access programs for local schools and the community at large. From June-September the Freeman Arts Pavilion is an open-air performance space showcasing music\, dance\, comedy\, theater\, children's programs\, and free events.
UID:e.2126.26096
SEQUENCE:3
DTSTAMP:20260420T230734Z
URL:http://business.thequietresorts.com/events/details/straight-no-chaser-the-yacht-rock-tour-26096
END:VEVENT

END:VCALENDAR
