BEGIN:VCALENDAR
VERSION:2.0
PRODID:-//ChamberMaster//Event Calendar 2.0//EN
METHOD:PUBLISH
X-PUBLISHED-TTL:P3D
REFRESH-INTERVAL:P3D
CALSCALE:GREGORIAN
BEGIN:VEVENT
DTSTART:20230424T200000Z
DTEND:20230424T210000Z
X-MICROSOFT-CDO-ALLDAYEVENT:FALSE
SUMMARY:Stockley Materials Ocean View Grand Opening & Ribbon Cutting
DESCRIPTION:Join the Chamber staff in celebrating the Grand Opening of Stockley Material's Ocean View location with a ribbon cutting on Monday\, April 24\, 2023!  The ribbon cutting celebration begins at 4:00pm\, with the ribbon to be cut at 4:30pm\, and there are other activities earlier in the day as well!  Stop by from 10am-2pm for complimentary lunch by Stockley Tavern or JD Shuckers Food Truck.  Maxima 95.3FM will be onsite doing live radio from 12pm - 2pm as well.
X-ALT-DESC;FMTTYPE=text/html:<span style="color: rgb(51\, 51\, 51)\; font-family: sans-serif\, Arial\, Verdana\, &quot\;Trebuchet MS&quot\;\; font-size: 13px\; background-color: rgb(255\, 255\, 255)\;">Join the Chamber staff in celebrating the Grand Opening of Stockley Material&#39\;s Ocean View location with a ribbon cutting on Monday\, April 24\, 2023!&nbsp\; The ribbon cutting celebration begins at 4:00pm\, with the ribbon to be cut at 4:30pm\, and there are other activities earlier in the day as well!&nbsp\; Stop by from 10am-2pm for complimentary lunch by Stockley Tavern or JD Shuckers Food Truck.&nbsp\; Maxima 95.3FM will be onsite doing live radio from 12pm - 2pm as well.&nbsp\;</span><br />\n&nbsp\;
LOCATION:Stockley Materials 34323 Burbage Rd. Frankford DE 19945
UID:e.2126.25359
SEQUENCE:3
DTSTAMP:20260421T041500Z
URL:http://business.thequietresorts.com/events/details/stockley-materials-ocean-view-grand-opening-ribbon-cutting-25359
END:VEVENT

END:VCALENDAR
