BEGIN:VCALENDAR
VERSION:2.0
PRODID:-//ChamberMaster//Event Calendar 2.0//EN
METHOD:PUBLISH
X-PUBLISHED-TTL:P3D
REFRESH-INTERVAL:P3D
CALSCALE:GREGORIAN
BEGIN:VEVENT
DTSTART:20231218T163000Z
DTEND:20231224T050000Z
X-MICROSOFT-CDO-ALLDAYEVENT:FALSE
SUMMARY:Stocking Stuffer Gift Card Sale at the Salted Rim
DESCRIPTION:Stocking Stuffer Gift Card Sale\n\n\n\nIn Restaurant  -  12/14-12/23\n\nBuy $100 Gift Card get a $25 Promo Gift Card\n\nBuy $50 Gift Card get a $10 Promo Gift Card\n\n\n\nOnline ONLY  -  12/14-12/25\n\nBuy $50 e-Gift Card get a $10 e-Gift Card\n\n\n\nhttps://www.saltedrimde.com/gift-cards
X-ALT-DESC;FMTTYPE=text/html:<div style="text-align: center\;"><span style="font-size:16px"><span style="font-family:verdana"><em><span style="color:#FF0000"><strong><span style="font-size:20px">Stocking Stuffer Gift Card Sale</span></strong></span><br />\n<br />\n<span style="color:#000000"><strong>In Restaurant&nbsp\; -&nbsp\; 12/14-12/23</strong></span><br />\n<span style="color:#FF0000"><strong>Buy $100 Gift Card get a $25 Promo Gift Card<br />\nBuy $50 Gift Card get a $10 Promo Gift Card</strong></span><br />\n<br />\n<span style="color:#000000"><strong>Online ONLY&nbsp\; -&nbsp\; 12/14-12/25</strong></span><br />\n<span style="color:#FF0000"><strong>Buy $50 e-Gift Card get a $10 e-Gift Card<br />\n<br />\n<a href="https://www.saltedrimde.com/gift-cards">https://www.saltedrimde.com/gift-cards</a></strong></span></em></span></span></div>\n
LOCATION:The Salted Rim Margarita Bar & Grille 35553 Atlantic Avenue Millville\, DE 19967 302-537-7373
UID:e.2126.27383
SEQUENCE:3
DTSTAMP:20260420T165214Z
URL:http://business.thequietresorts.com/events/details/stocking-stuffer-gift-card-sale-at-the-salted-rim-27383
END:VEVENT

END:VCALENDAR
