BEGIN:VCALENDAR
VERSION:2.0
PRODID:-//ChamberMaster//Event Calendar 2.0//EN
METHOD:PUBLISH
X-PUBLISHED-TTL:P3D
REFRESH-INTERVAL:P3D
CALSCALE:GREGORIAN
BEGIN:VEVENT
DTSTART:20220904T233000Z
DTEND:20220905T010000Z
X-MICROSOFT-CDO-ALLDAYEVENT:FALSE
SUMMARY:Still Surfin'
DESCRIPTION:Based in D.C.\, Still Surfin' is a professional Beach Boys tribute band with each member having a unique and extensive musical background. A common love for harmonies and deceivingly difficult arrangements brought them together to perform this timeless\, beautiful music suitable for audiences of all ages.
X-ALT-DESC;FMTTYPE=text/html:Based in D.C.\, Still Surfin&#39\; is a professional Beach Boys tribute band with each member having a unique and extensive musical background. A common love for harmonies and deceivingly difficult arrangements brought them together to perform this timeless\, beautiful music suitable for audiences of all ages.&nbsp\;
LOCATION:Bethany Beach Bandstand
UID:e.2126.23845
SEQUENCE:3
DTSTAMP:20260421T173025Z
URL:http://business.thequietresorts.com/events/details/still-surfin-09-04-2022-23845
END:VEVENT

END:VCALENDAR
