BEGIN:VCALENDAR
VERSION:2.0
PRODID:-//ChamberMaster//Event Calendar 2.0//EN
METHOD:PUBLISH
X-PUBLISHED-TTL:P3D
REFRESH-INTERVAL:P3D
CALSCALE:GREGORIAN
BEGIN:VEVENT
DTSTART:20210722T233000Z
DTEND:20210723T010000Z
X-MICROSOFT-CDO-ALLDAYEVENT:FALSE
SUMMARY:Still Surfin'
DESCRIPTION:Still Surfin' is a professional Beach Boys tribute band that has been performing the music of the Beach Boys for 20 years.  The show features the five-part harmonies and authentic costuming made popular during the live tours along with covers from other great '60s surf bands. www.stillsurfin.com
X-ALT-DESC;FMTTYPE=text/html:<span style="background-color:rgba(255\, 255\, 255\, 0.95)\; color:rgb(68\, 68\, 68)\; font-family:arial\; font-size:14.4px">Still Surfin&#39\; is a professional Beach Boys tribute band that has been performing the music of the Beach Boys for 20 years. &nbsp\;The show features the five-part harmonies and authentic costuming made popular during the live tours along with covers from other great &rsquo\;60s surf bands. www.stillsurfin.com</span>
LOCATION:Bethany Beach Bandstand Garfield Parkway & Boardwalk\, Bethany Beach
UID:e.2126.22572
SEQUENCE:3
DTSTAMP:20260424T172926Z
URL:http://business.thequietresorts.com/events/details/still-surfin-07-22-2021-22572
END:VEVENT

END:VCALENDAR
