BEGIN:VCALENDAR
VERSION:2.0
PRODID:-//ChamberMaster//Event Calendar 2.0//EN
METHOD:PUBLISH
X-PUBLISHED-TTL:P3D
REFRESH-INTERVAL:P3D
CALSCALE:GREGORIAN
BEGIN:VEVENT
DTSTART:20230506T230000Z
DTEND:20230507T000000Z
X-MICROSOFT-CDO-ALLDAYEVENT:FALSE
SUMMARY:Steve Ross: Cole Porter and Beyond
DESCRIPTION:Steve Ross\, the Crown Prince of New York Cabaret\, takes his audience on a musical and anecdotal journey through the songs of composer Cole Porter. This spirited evening brings together Cole Porter's brilliant\, sometimes racy list songs like You're The Top and Let's Do It with bitter-sweet\, passionate ballads such as What Is This Thing Called Love? and I Concentrate on You.
X-ALT-DESC;FMTTYPE=text/html:<span style="font-family:arial\,helvetica\,sans-serif">Steve Ross\, the Crown Prince of New York Cabaret\, takes his audience on a musical and anecdotal journey through the songs of composer Cole Porter.&nbsp\;This spirited evening brings together Cole Porter&#39\;s brilliant\, sometimes racy list songs like&nbsp\;<em>You&#39\;re The Top&nbsp\;</em>and&nbsp\;<em>Let&rsquo\;s Do It&nbsp\;</em>with bitter-sweet\, passionate ballads such as&nbsp\;<em>What Is This Thing Called Love? </em>and&nbsp\;<em>I&nbsp\;Concentrate on&nbsp\;You.</em></span>
LOCATION:Dickens Parlour Theatre 31810 Good Earth Lane Ocean View\, DE 19970
UID:e.2126.25347
SEQUENCE:3
DTSTAMP:20260421T023846Z
URL:http://business.thequietresorts.com/events/details/steve-ross-cole-porter-and-beyond-05-06-2023-25347
END:VEVENT

END:VCALENDAR
