BEGIN:VCALENDAR
VERSION:2.0
PRODID:-//ChamberMaster//Event Calendar 2.0//EN
METHOD:PUBLISH
X-PUBLISHED-TTL:P3D
REFRESH-INTERVAL:P3D
CALSCALE:GREGORIAN
BEGIN:VEVENT
DTSTART:20220225T130000Z
DTEND:20220225T142500Z
X-MICROSOFT-CDO-ALLDAYEVENT:FALSE
SUMMARY:State of the Guard
DESCRIPTION:Join us  REGISTER to receive your conference link at www.dscc.com\n\n \n\nBusiness and civic leaders\, employers and community partners   all   are welcome to listen in on the latest missions of YOUR Delaware National Guard serving the state of Delaware and our nation. There is no cost to attend the Virtual Event\; however\, you must pre-register to receive the conference link. The event agenda includes the annual State of the Guard briefing to our community on current missions\, operations and people of the Delaware National Guard\, hosted by\, Major General Michael R. Berry\, The Adjutant General\, Delaware.\n\n \n\n** State of the Guard   Annual Brief to the Community ** \n\nFriday\, February 25\, 2022\n\n8:00 a.m. - 9:30 a.m.\n\nVirtual Conference\n\n \n\n**** AGENDA ***** \n\n8:00am - Welcome & Delaware National Guard Year-in-Review Video\, JMAC Chair Christine Kubik \n\n8:15am - Remarks\, Governor John Carney\, Congresswoman Lisa Blunt Rochester\, and Senator Tom Carper\n\n8:33am - Remarks\, DSCC & NCCCC\n\n8:37am - Warrior Business Friendly Award Presentation\, Don Fulton\n\n8:47am - Remarks\, Senator Chris Coons\n\n8:50am - State of the Guard\, Major General Michael Berry\n\n9:30am - Adjourn\n\n \n\n"One of the great honors as Governor is to serve as the Commander-in-Chief for the Delaware National Guard. And I have been so proud of the work of our Guardsmen and women over the past year. Whatever you ask\, they do. No job is too tough. It's been an extremely busy year for the Guard from their deployments overseas\, to the deployment to Washington DC on Jan 6th\, to security for the inauguration of President Biden to the streets of Wilmington in the aftermath of Hurricane Ida. All of this\, as the Guard continues to be the backbone of Delaware's response to COVID. We simply would not be here today\, if it not for the efforts of the Delaware Army and Air National Guard."   ~ The Honorable John Carney\, Governor of Delaware\n\n \n\nREGISTRATION REQUIRED at      www.dscc.com   \n\n \n\nLook forward to having you join us Feb 25th.
X-ALT-DESC;FMTTYPE=text/html:<span style="color:#2F5597\;"><span style="font-size:11.0pt\;">Join us&hellip\; </span></span><span style="color:#1F497D\;"><span style="font-size:11.0pt\;">REGISTER to receive your conference link at <a href="http://www.dscc.com">www.dscc.com</a></span></span><br />\n&nbsp\;<br />\n<span style="color:#2F5597\;"><span style="font-size:11.0pt\;">Business and civic leaders\, employers and community partners &ndash\; all &ndash\; are welcome to listen in on the latest missions of YOUR Delaware National Guard serving the state of Delaware and our nation. There is no cost to attend the Virtual Event\; however\, you must pre-register to receive the conference link. The event agenda includes the annual State of the Guard briefing to our community on current missions\, operations and people of the Delaware National Guard\, hosted by\, Major General Michael R. Berry\, The Adjutant General\, Delaware</span></span><span style="font-size:11.0pt\;">.</span><br />\n&nbsp\;<br />\n<span style="color:#1F497D\;"><span style="font-size:11.0pt\;">** State of the Guard &ndash\; Annual Brief to the Community ** </span></span><br />\n<span style="color:#1F497D\;"><span style="font-size:11.0pt\;">Friday\, February 25\, 2022</span></span><br />\n<span style="color:#1F497D\;"><span style="font-size:11.0pt\;">8:00 a.m. - 9:30 a.m.</span></span><br />\n<span style="color:#2F5597\;"><span style="font-size:11.0pt\;">Virtual Conference</span></span><br />\n&nbsp\;<br />\n<span style="color:#2F5597\;"><span style="font-size:11.0pt\;">**** AGENDA ***** </span></span><br />\n<span style="color:#2F5597\;"><span style="font-size:11.0pt\;">8:00am - Welcome &amp\; Delaware National Guard Year-in-Review Video\, JMAC Chair Christine Kubik </span></span><br />\n<span style="color:#2F5597\;"><span style="font-size:11.0pt\;">8:15am - Remarks\, Governor John Carney\, Congresswoman Lisa Blunt Rochester\, and Senator Tom Carper</span></span><br />\n<span style="color:#2F5597\;"><span style="font-size:11.0pt\;">8:33am - Remarks\, DSCC &amp\; NCCCC</span></span><br />\n<span style="color:#2F5597\;"><span style="font-size:11.0pt\;">8:37am - Warrior Business Friendly Award Presentation\, Don Fulton</span></span><br />\n<span style="color:#2F5597\;"><span style="font-size:11.0pt\;">8:47am - Remarks\, Senator Chris Coons</span></span><br />\n<span style="color:#2F5597\;"><span style="font-size:11.0pt\;">8:50am - State of the Guard\, Major General Michael Berry</span></span><br />\n<span style="color:#2F5597\;"><span style="font-size:11.0pt\;">9:30am - Adjourn</span></span><br />\n&nbsp\;<br />\n<span style="color:#1F497D\;"><span style="font-size:11.0pt\;">&ldquo\;One of the great honors as Governor is to serve as the Commander-in-Chief for the Delaware National Guard. And I have been so proud of the work of our Guardsmen and women over the past year. Whatever you ask\, they do. No job is too tough. It&rsquo\;s been an extremely busy year for the Guard from their deployments overseas\, to the deployment to Washington DC on Jan 6th\, to security for the inauguration of President Biden to the streets of Wilmington in the aftermath of Hurricane Ida. All of this\, as the Guard continues to be the backbone of Delaware&rsquo\;s response to COVID. We simply would not be here today\, if it not for the efforts of the Delaware Army and Air National Guard.&rdquo\;&nbsp\; &nbsp\;~ The Honorable John Carney\, Governor of Delaware</span></span><br />\n&nbsp\;<br />\n<span style="color:#1F497D\;"><span style="font-size:11.0pt\;">REGISTRATION REQUIRED at &gt\;&gt\;&gt\;&nbsp\; <a href="http://www.dscc.com">www.dscc.com</a> &nbsp\;&nbsp\;</span></span><br />\n&nbsp\;<br />\n<span style="color:#1F497D\;"><span style="font-size:11.0pt\;">Look forward to having you join us Feb 25<sup>th</sup>.</span></span>
LOCATION:Virtual Conference Pre-registration is required at www.dscc.com
UID:e.2126.23501
SEQUENCE:3
DTSTAMP:20260424T054637Z
URL:http://business.thequietresorts.com/events/details/state-of-the-guard-23501
END:VEVENT

END:VCALENDAR
